FILENAME: O4811208.NES.938475.tif
QUADRANGLE_NAME: HILLSIDE COLONY
QUADRANT: NE
WEST_LONGITUDE: -112 3 45.00000
EAST_LONGITUDE: -112 0 0.00000
NORTH_LATITUDE: 49 0 0.00000
SOUTH_LATITUDE: 48 56 15.00000
PRODUCTION_DATE: 1998 12 05
RASTER_ORDER: LEFT_RIGHT/TOP_BOTTOM
BAND_ORGANIZATION: SINGLE FILE
BAND_CONTENT: BLACK&WHITE
BAND_CONTENT: UNDEFINED
BAND_CONTENT: UNDEFINED
BITS_PER_PIXEL: 8
SAMPLES_AND_LINES: 5370 7650
HORIZONTAL_DATUM: NAD83
HORIZONTAL_COORDINATE_SYSTEM: UTM
COORDINATE_ZONE: 12
HORIZONTAL_UNITS: METERS
HORIZONTAL_RESOLUTION: 1.00000
SECONDARY_HORIZONTAL_DATUM: NAD27
XY_ORIGIN: 421800.00000 5428320.00000
SECONDARY_XY_ORIGIN: 421861.99500 5428100.50300
NATION: US
NATION: CA
STATE: MT
NW_QUAD_CORNER_XY: 422286.68200 5427999.62600
NE_QUAD_CORNER_XY: 426857.98800 5427937.52300
SE_QUAD_CORNERY_XY: 426766.50600 5420989.87800
SW_QUAD_CORNER_XY: 422189.48200 5421051.99900
SECONDARY_NW_QUAD_XY: 422284.18600 5427780.63300
SECONDARY_NE_QUAD_XY: 426855.63900 5427718.52900
SECONDARY_SE_QUAD_XY: 426764.15700 5420770.88500
SECONDARY_SW_QUAD_XY: 422186.98600 5420833.00800
RMSE_XY: 1.84000
IMAGE_SOURCE: BLACK AND WHITE FILM
SOURCE_IMAGE_ID: NAPP 9487 54
SOURCE_IMAGE_DATE: 1995 08 27
SOURCE_DEM_DATE: 1968 00 00
AGENCY: WESTERN MAPPING CENTER (WMC)
PRODUCER: ANALYTICAL SURVEYS INC.
PRODUCTION_SYSTEM: ORBIT OR_RECTIFY V.5.2
COMPRESSION: UNDEFINED
STANDARD_VERSION: 1996 12
METADATA_DATE: 1998 12 10
DATA_FILE_SIZE: 41085870
BYTE_COUNT: 5370
