FILENAME: O4811210.NES.945058.tif
QUADRANGLE_NAME: RIMROCK RANCH
QUADRANT: NE
WEST_LONGITUDE: -112 48 45.00000
EAST_LONGITUDE: -112 45 0.00000
NORTH_LATITUDE: 48 52 30.00000
SOUTH_LATITUDE: 48 48 45.00000
PRODUCTION_DATE: 1998 10 02
RASTER_ORDER: LEFT_RIGHT/TOP_BOTTOM
BAND_ORGANIZATION: SINGLE FILE
BAND_CONTENT: BLACK&WHITE
BAND_CONTENT: UNDEFINED
BAND_CONTENT: UNDEFINED
BITS_PER_PIXEL: 8
SAMPLES_AND_LINES: 5460 7680
HORIZONTAL_DATUM: NAD83
HORIZONTAL_COORDINATE_SYSTEM: UTM
COORDINATE_ZONE: 12
HORIZONTAL_UNITS: METERS
HORIZONTAL_RESOLUTION: 1.00000
SECONDARY_HORIZONTAL_DATUM: NAD27
XY_ORIGIN: 366540.00000 5415450.00000
SECONDARY_XY_ORIGIN: 366602.82800 5415231.08600
NATION: US
STATE: MT
NW_QUAD_CORNER_XY: 367100.70500 5415143.96600
NE_QUAD_CORNER_XY: 371683.24500 5415036.61600
SE_QUAD_CORNERY_XY: 371523.43300 5408089.40700
SW_QUAD_CORNER_XY: 366935.18200 5408196.78900
SECONDARY_NW_QUAD_XY: 367096.44700 5414925.01100
SECONDARY_NE_QUAD_XY: 371679.13400 5414817.65700
SECONDARY_SE_QUAD_XY: 371519.32200 5407870.45200
SECONDARY_SW_QUAD_XY: 366930.92500 5407977.83700
RMSE_XY: 1.50300
IMAGE_SOURCE: BLACK AND WHITE FILM
SOURCE_IMAGE_ID: NAPP 8385 23
SOURCE_IMAGE_DATE: 1995 08 05
SOURCE_DEM_DATE: 1968 01 01
AGENCY: WESTERN MAPPING CENTER (WMC)
PRODUCER: ANALYTICAL SURVEYS INC.
PRODUCTION_SYSTEM: ORBIT OR_RECTIFY V.5.2
COMPRESSION: UNDEFINED
STANDARD_VERSION: 1996 12
METADATA_DATE: 1998 10 02
DATA_FILE_SIZE: 41938260
BYTE_COUNT: 5460
