FILENAME: O4811211.SWS.938410.tif
QUADRANGLE_NAME: BUFFALO LAKE
QUADRANT: SW
WEST_LONGITUDE: -112 45 0.00000
EAST_LONGITUDE: -112 41 15.00000
NORTH_LATITUDE: 48 48 45.00000
SOUTH_LATITUDE: 48 45 0.00000
PRODUCTION_DATE: 1998 11 18
RASTER_ORDER: LEFT_RIGHT/TOP_BOTTOM
BAND_ORGANIZATION: SINGLE FILE
BAND_CONTENT: BLACK&WHITE
BAND_CONTENT: UNDEFINED
BAND_CONTENT: UNDEFINED
BITS_PER_PIXEL: 8
SAMPLES_AND_LINES: 5460 7680
HORIZONTAL_DATUM: NAD83
HORIZONTAL_COORDINATE_SYSTEM: UTM
COORDINATE_ZONE: 12
HORIZONTAL_UNITS: METERS
HORIZONTAL_RESOLUTION: 1.00000
SECONDARY_HORIZONTAL_DATUM: NAD27
XY_ORIGIN: 370980.00000 5408400.00000
SECONDARY_XY_ORIGIN: 371042.83500 5408181.29900
NATION: US
STATE: MT
NW_QUAD_CORNER_XY: 371523.43300 5408089.40700
NE_QUAD_CORNER_XY: 376111.70400 5407985.79500
SE_QUAD_CORNERY_XY: 375957.75100 5401038.62500
SW_QUAD_CORNER_XY: 371363.77500 5401142.26700
SECONDARY_NW_QUAD_XY: 371519.32200 5407870.45200
SECONDARY_NE_QUAD_XY: 376107.74000 5407766.83600
SECONDARY_SE_QUAD_XY: 375953.78700 5400819.67100
SECONDARY_SW_QUAD_XY: 371359.66400 5400923.31600
RMSE_XY: 1.40600
IMAGE_SOURCE: BLACK AND WHITE FILM
SOURCE_IMAGE_ID: NAPP 8385 85
SOURCE_IMAGE_DATE: 1995 08 05
SOURCE_DEM_DATE: 1968 00 00
AGENCY: WESTERN MAPPING CENTER (WMC)
PRODUCER: ANALYTICAL SURVEYS INC.
PRODUCTION_SYSTEM: ORBIT OR_RECTIFY V.5.2
COMPRESSION: UNDEFINED
STANDARD_VERSION: 1996 12
METADATA_DATE: 1998 12 09
DATA_FILE_SIZE: 41938260
BYTE_COUNT: 5460
