FILENAME: O4811216.SES.46044.tif
QUADRANGLE_NAME: MOUNTAIN VIEW SCHOOL
QUADRANT: SE
WEST_LONGITUDE: -112 3 45.00000
EAST_LONGITUDE: -112 0 0.00000
NORTH_LATITUDE: 48 48 45.00000
SOUTH_LATITUDE: 48 45 0.00000
PRODUCTION_DATE: 1995 6 27
RASTER_ORDER: LEFT_RIGHT/TOP_BOTTOM
BAND_ORGANIZATION: SINGLE FILE
BAND_CONTENT: BLACK&WHITE
BAND_CONTENT: UNDEFINED
BAND_CONTENT: UNDEFINED
BITS_PER_PIXEL: 8
SAMPLES_AND_LINES: 5296 7620
HORIZONTAL_DATUM: NAD83
HORIZONTAL_COORDINATE_SYSTEM: UTM
COORDINATE_ZONE: 12
HORIZONTAL_UNITS: METERS
HORIZONTAL_RESOLUTION: 1.00000
SECONDARY_HORIZONTAL_DATUM: NAD27
XY_ORIGIN: 421593.50000 5407461.50000
SECONDARY_XY_ORIGIN: 421655.46800 5407242.59700
NATION: US
STATE: MT
NW_QUAD_CORNER_XY: 421995.36200 5407156.96400
NE_QUAD_CORNER_XY: 426583.80700 5407094.80700
SE_QUAD_CORNERY_XY: 426492.58900 5400147.38100
SW_QUAD_CORNER_XY: 421898.44200 5400209.55600
SECONDARY_NW_QUAD_XY: 421992.86600 5406937.97900
SECONDARY_NE_QUAD_XY: 426581.45800 5406875.81900
SECONDARY_SE_QUAD_XY: 426490.24000 5399928.39800
SECONDARY_SW_QUAD_XY: 421895.94700 5399990.57600
RMSE_XY: 1.60000
IMAGE_SOURCE: BLACK AND WHITE FILM
SOURCE_IMAGE_ID: NAPP 2567 009
SOURCE_IMAGE_DATE: 1990 6 26
SOURCE_DEM_DATE: 1995 6 27
AGENCY: WESTERN MAPPING CENTER (WMC)
PRODUCER: Woolpert Consultants
PRODUCTION_SYSTEM: INTERGRAPH ISPM,ISIR
COMPRESSION: UNDEFINED
STANDARD_VERSION: 1996 12
METADATA_DATE: 1997 6 15
DATA_FILE_SIZE: 40360816
BYTE_COUNT: 5296
