FILENAME: O4811216.NWS.46043.tif
QUADRANGLE_NAME: MOUNTAIN VIEW SCHOOL
QUADRANT: NW
WEST_LONGITUDE: -112 7 30.00000
EAST_LONGITUDE: -112 3 45.00000
NORTH_LATITUDE: 48 52 30.00000
SOUTH_LATITUDE: 48 48 45.00000
PRODUCTION_DATE: 1995 6 27
RASTER_ORDER: LEFT_RIGHT/TOP_BOTTOM
BAND_ORGANIZATION: SINGLE FILE
BAND_CONTENT: BLACK&WHITE
BAND_CONTENT: UNDEFINED
BAND_CONTENT: UNDEFINED
BITS_PER_PIXEL: 8
SAMPLES_AND_LINES: 5296 7624
HORIZONTAL_DATUM: NAD83
HORIZONTAL_COORDINATE_SYSTEM: UTM
COORDINATE_ZONE: 12
HORIZONTAL_UNITS: METERS
HORIZONTAL_RESOLUTION: 1.00000
SECONDARY_HORIZONTAL_DATUM: NAD27
XY_ORIGIN: 417102.50000 5414474.50000
SECONDARY_XY_ORIGIN: 417164.52300 5414255.39900
NATION: US
STATE: MT
NW_QUAD_CORNER_XY: 417509.65000 5414170.35100
NE_QUAD_CORNER_XY: 422092.37500 5414104.44500
SE_QUAD_CORNERY_XY: 421995.36200 5407156.96400
SW_QUAD_CORNER_XY: 417406.92900 5407222.89000
SECONDARY_NW_QUAD_XY: 417507.00800 5413951.36500
SECONDARY_NE_QUAD_XY: 422089.87900 5413885.45600
SECONDARY_SE_QUAD_XY: 421992.86600 5406937.97900
SECONDARY_SW_QUAD_XY: 417404.28700 5407003.90700
RMSE_XY: 2.50000
IMAGE_SOURCE: BLACK AND WHITE FILM
SOURCE_IMAGE_ID: NAPP 2566 060
SOURCE_IMAGE_DATE: 1990 6 26
SOURCE_DEM_DATE: 1995 6 27
AGENCY: WESTERN MAPPING CENTER (WMC)
PRODUCER: Woolpert Consultants
PRODUCTION_SYSTEM: INTERGRAPH ISPM,ISIR
COMPRESSION: UNDEFINED
STANDARD_VERSION: 1996 12
METADATA_DATE: 1997 6 15
DATA_FILE_SIZE: 40382000
BYTE_COUNT: 5296
