FILENAME: O4811217.SES.46624.tif
QUADRANGLE_NAME: SHARP LAKE
QUADRANT: SE
WEST_LONGITUDE: -112 56 15.00000
EAST_LONGITUDE: -112 52 30.00000
NORTH_LATITUDE: 48 41 15.00000
SOUTH_LATITUDE: 48 37 30.00000
PRODUCTION_DATE: 1994 12 22
RASTER_ORDER: LEFT_RIGHT/TOP_BOTTOM
BAND_ORGANIZATION: SINGLE FILE
BAND_CONTENT: BLACK&WHITE
BAND_CONTENT: UNDEFINED
BAND_CONTENT: UNDEFINED
BITS_PER_PIXEL: 8
SAMPLES_AND_LINES: 5446 7666
HORIZONTAL_DATUM: NAD83
HORIZONTAL_COORDINATE_SYSTEM: UTM
COORDINATE_ZONE: 12
HORIZONTAL_UNITS: METERS
HORIZONTAL_RESOLUTION: 1.00000
SECONDARY_HORIZONTAL_DATUM: NAD27
XY_ORIGIN: 356860.00000 5394829.00000
SECONDARY_XY_ORIGIN: 356923.05300 5394610.82500
NATION: US
STATE: MT
NW_QUAD_CORNER_XY: 357405.36700 5394528.83900
NE_QUAD_CORNER_XY: 362004.98100 5394413.85200
SE_QUAD_CORNERY_XY: 361834.24400 5387466.91000
SW_QUAD_CORNER_XY: 357228.93500 5387581.92900
SECONDARY_NW_QUAD_XY: 357400.81600 5394309.90400
SECONDARY_NE_QUAD_XY: 362000.57700 5394194.91400
SECONDARY_SE_QUAD_XY: 361829.84000 5387247.97700
SECONDARY_SW_QUAD_XY: 357224.38400 5387363.00000
RMSE_XY: 0.60000
IMAGE_SOURCE: BLACK AND WHITE FILM
SOURCE_IMAGE_ID: NAPP 2569 095
SOURCE_IMAGE_DATE: 1990 7 12
SOURCE_DEM_DATE: 1994 12 22
AGENCY: WESTERN MAPPING CENTER (WMC)
PRODUCER: Science Applications International
PRODUCTION_SYSTEM: GIS/MAGIC
COMPRESSION: UNDEFINED
STANDARD_VERSION: 1996 12
METADATA_DATE: 1997 7 4
DATA_FILE_SIZE: 41754482
BYTE_COUNT: 5446
