FILENAME: O4811217.NWS.46623.tif
QUADRANGLE_NAME: SHARP LAKE
QUADRANT: NW
WEST_LONGITUDE: -113 0 0.00000
EAST_LONGITUDE: -112 56 15.00000
NORTH_LATITUDE: 48 45 0.00000
SOUTH_LATITUDE: 48 41 15.00000
PRODUCTION_DATE: 1994 12 22
RASTER_ORDER: LEFT_RIGHT/TOP_BOTTOM
BAND_ORGANIZATION: SINGLE FILE
BAND_CONTENT: BLACK&WHITE
BAND_CONTENT: UNDEFINED
BAND_CONTENT: UNDEFINED
BITS_PER_PIXEL: 8
SAMPLES_AND_LINES: 5447 7669
HORIZONTAL_DATUM: NAD83
HORIZONTAL_COORDINATE_SYSTEM: UTM
COORDINATE_ZONE: 12
HORIZONTAL_UNITS: METERS
HORIZONTAL_RESOLUTION: 1.00000
SECONDARY_HORIZONTAL_DATUM: NAD27
XY_ORIGIN: 352436.00000 5401895.00000
SECONDARY_XY_ORIGIN: 352499.17500 5401676.64700
NATION: US
STATE: MT
NW_QUAD_CORNER_XY: 352988.07900 5401594.54300
NE_QUAD_CORNER_XY: 357581.97000 5401475.81700
SE_QUAD_CORNERY_XY: 357405.36700 5394528.83900
SW_QUAD_CORNER_XY: 352805.77500 5394647.59900
SECONDARY_NW_QUAD_XY: 352983.38000 5401375.60600
SECONDARY_NE_QUAD_XY: 357577.41900 5401256.87700
SECONDARY_SE_QUAD_XY: 357400.81600 5394309.90400
SECONDARY_SW_QUAD_XY: 352801.07700 5394428.66800
RMSE_XY: 0.80000
IMAGE_SOURCE: BLACK AND WHITE FILM
SOURCE_IMAGE_ID: NAPP 2569 124
SOURCE_IMAGE_DATE: 1990 7 12
SOURCE_DEM_DATE: 1994 12 22
AGENCY: WESTERN MAPPING CENTER (WMC)
PRODUCER: Science Applications International
PRODUCTION_SYSTEM: GIS/MAGIC
COMPRESSION: UNDEFINED
STANDARD_VERSION: 1996 12
METADATA_DATE: 1997 7 4
DATA_FILE_SIZE: 41778490
BYTE_COUNT: 5447
