FILENAME: O4811218.SES.945064.tif
QUADRANGLE_NAME: RIMROCK BUTTE
QUADRANT: SE
WEST_LONGITUDE: -112 48 45.00000
EAST_LONGITUDE: -112 45 0.00000
NORTH_LATITUDE: 48 41 15.00000
SOUTH_LATITUDE: 48 37 30.00000
PRODUCTION_DATE: 1998 10 02
RASTER_ORDER: LEFT_RIGHT/TOP_BOTTOM
BAND_ORGANIZATION: SINGLE FILE
BAND_CONTENT: BLACK&WHITE
BAND_CONTENT: UNDEFINED
BAND_CONTENT: UNDEFINED
BITS_PER_PIXEL: 8
SAMPLES_AND_LINES: 5460 7710
HORIZONTAL_DATUM: NAD83
HORIZONTAL_COORDINATE_SYSTEM: UTM
COORDINATE_ZONE: 12
HORIZONTAL_UNITS: METERS
HORIZONTAL_RESOLUTION: 1.00000
SECONDARY_HORIZONTAL_DATUM: NAD27
XY_ORIGIN: 366060.00000 5394630.00000
SECONDARY_XY_ORIGIN: 366122.89500 5394411.75700
NATION: US
STATE: MT
NW_QUAD_CORNER_XY: 366604.61600 5394302.63800
NE_QUAD_CORNER_XY: 371204.27200 5394195.19500
SE_QUAD_CORNERY_XY: 371044.92300 5387248.19200
SW_QUAD_CORNER_XY: 366439.57300 5387355.66500
SECONDARY_NW_QUAD_XY: 366600.35900 5394083.69600
SECONDARY_NE_QUAD_XY: 371200.16100 5393976.24900
SECONDARY_SE_QUAD_XY: 371040.81200 5387029.25200
SECONDARY_SW_QUAD_XY: 366435.31600 5387136.72800
RMSE_XY: 1.31000
IMAGE_SOURCE: BLACK AND WHITE FILM
SOURCE_IMAGE_ID: NAPP 8385 17
SOURCE_IMAGE_DATE: 1995 08 05
SOURCE_DEM_DATE: 1968 01 01
AGENCY: WESTERN MAPPING CENTER (WMC)
PRODUCER: ANALYTICAL SURVEYS INC.
PRODUCTION_SYSTEM: ORBIT OR_RECTIFY V.5.2
COMPRESSION: UNDEFINED
STANDARD_VERSION: 1996 12
METADATA_DATE: 1998 10 02
DATA_FILE_SIZE: 42102060
BYTE_COUNT: 5460
