FILENAME: O4811219.NES.938411.tif
QUADRANGLE_NAME: FORT PIEGAN
QUADRANT: NE
WEST_LONGITUDE: -112 41 15.00000
EAST_LONGITUDE: -112 37 30.00000
NORTH_LATITUDE: 48 45 0.00000
SOUTH_LATITUDE: 48 41 15.00000
PRODUCTION_DATE: 1998 11 18
RASTER_ORDER: LEFT_RIGHT/TOP_BOTTOM
BAND_ORGANIZATION: SINGLE FILE
BAND_CONTENT: BLACK&WHITE
BAND_CONTENT: UNDEFINED
BAND_CONTENT: UNDEFINED
BITS_PER_PIXEL: 8
SAMPLES_AND_LINES: 5460 7680
HORIZONTAL_DATUM: NAD83
HORIZONTAL_COORDINATE_SYSTEM: UTM
COORDINATE_ZONE: 12
HORIZONTAL_UNITS: METERS
HORIZONTAL_RESOLUTION: 1.00000
SECONDARY_HORIZONTAL_DATUM: NAD27
XY_ORIGIN: 375420.00000 5401350.00000
SECONDARY_XY_ORIGIN: 375482.78900 5401131.53100
NATION: US
STATE: MT
NW_QUAD_CORNER_XY: 375957.75100 5401038.62500
NE_QUAD_CORNER_XY: 380551.74600 5400938.75400
SE_QUAD_CORNERY_XY: 380403.64000 5393991.62500
SW_QUAD_CORNER_XY: 375803.94700 5394091.52400
SECONDARY_NW_QUAD_XY: 375953.78700 5400819.67100
SECONDARY_NE_QUAD_XY: 380547.92800 5400719.79600
SECONDARY_SE_QUAD_XY: 380399.82300 5393772.67200
SECONDARY_SW_QUAD_XY: 375799.98300 5393872.57500
RMSE_XY: 1.08900
IMAGE_SOURCE: BLACK AND WHITE FILM
SOURCE_IMAGE_ID: NAPP 8385 38
SOURCE_IMAGE_DATE: 1995 08 05
SOURCE_DEM_DATE: 1968 00 00
AGENCY: WESTERN MAPPING CENTER (WMC)
PRODUCER: ANALYTICAL SURVEYS INC.
PRODUCTION_SYSTEM: ORBIT OR_RECTIFY V.5.2
COMPRESSION: UNDEFINED
STANDARD_VERSION: 1996 12
METADATA_DATE: 1998 12 09
DATA_FILE_SIZE: 41938260
BYTE_COUNT: 5460
