FILENAME: O4811220.NWS.938424.tif
QUADRANGLE_NAME: SUNDANCE
QUADRANT: NW
WEST_LONGITUDE: -112 37 30.00000
EAST_LONGITUDE: -112 33 45.00000
NORTH_LATITUDE: 48 45 0.00000
SOUTH_LATITUDE: 48 41 15.00000
PRODUCTION_DATE: 1998 11 25
RASTER_ORDER: LEFT_RIGHT/TOP_BOTTOM
BAND_ORGANIZATION: SINGLE FILE
BAND_CONTENT: BLACK&WHITE
BAND_CONTENT: UNDEFINED
BAND_CONTENT: UNDEFINED
BITS_PER_PIXEL: 8
SAMPLES_AND_LINES: 5460 7680
HORIZONTAL_DATUM: NAD83
HORIZONTAL_COORDINATE_SYSTEM: UTM
COORDINATE_ZONE: 12
HORIZONTAL_UNITS: METERS
HORIZONTAL_RESOLUTION: 1.00000
SECONDARY_HORIZONTAL_DATUM: NAD27
XY_ORIGIN: 380010.00000 5401260.00000
SECONDARY_XY_ORIGIN: 380072.67700 5401041.51100
NATION: US
STATE: MT
NW_QUAD_CORNER_XY: 380551.74600 5400938.75400
NE_QUAD_CORNER_XY: 385145.75900 5400842.65300
SE_QUAD_CORNERY_XY: 385003.35200 5393895.49700
SW_QUAD_CORNER_XY: 380403.64000 5393991.62500
SECONDARY_NW_QUAD_XY: 380547.92800 5400719.79600
SECONDARY_NE_QUAD_XY: 385142.08800 5400623.69200
SECONDARY_SE_QUAD_XY: 384999.68200 5393676.54100
SECONDARY_SW_QUAD_XY: 380399.82300 5393772.67200
RMSE_XY: 1.09700
IMAGE_SOURCE: BLACK AND WHITE FILM
SOURCE_IMAGE_ID: NAPP 8384 231
SOURCE_IMAGE_DATE: 1995 08 05
SOURCE_DEM_DATE: 1968 01 01
AGENCY: WESTERN MAPPING CENTER (WMC)
PRODUCER: ANALYTICAL SURVEYS INC.
PRODUCTION_SYSTEM: ORBIT OR_RECTIFY V.5.2
COMPRESSION: UNDEFINED
STANDARD_VERSION: 1996 12
METADATA_DATE: 1998 12 10
DATA_FILE_SIZE: 41938260
BYTE_COUNT: 5460
