FILENAME: O4811221.NWS.938436.tif
QUADRANGLE_NAME: GUNSIGHT
QUADRANT: NW
WEST_LONGITUDE: -112 30 0.00000
EAST_LONGITUDE: -112 26 15.00000
NORTH_LATITUDE: 48 45 0.00000
SOUTH_LATITUDE: 48 41 15.00000
PRODUCTION_DATE: 1998 12 07
RASTER_ORDER: LEFT_RIGHT/TOP_BOTTOM
BAND_ORGANIZATION: SINGLE FILE
BAND_CONTENT: BLACK&WHITE
BAND_CONTENT: UNDEFINED
BAND_CONTENT: UNDEFINED
BITS_PER_PIXEL: 8
SAMPLES_AND_LINES: 5430 7680
HORIZONTAL_DATUM: NAD83
HORIZONTAL_COORDINATE_SYSTEM: UTM
COORDINATE_ZONE: 12
HORIZONTAL_UNITS: METERS
HORIZONTAL_RESOLUTION: 1.00000
SECONDARY_HORIZONTAL_DATUM: NAD27
XY_ORIGIN: 389220.00000 5401080.00000
SECONDARY_XY_ORIGIN: 389282.45200 5400861.46600
NATION: US
STATE: MT
NW_QUAD_CORNER_XY: 389739.79000 5400750.32200
NE_QUAD_CORNER_XY: 394333.83800 5400661.76100
SE_QUAD_CORNERY_XY: 394202.82800 5393714.55400
SW_QUAD_CORNER_XY: 389603.08200 5393803.14000
SECONDARY_NW_QUAD_XY: 389736.26600 5400531.35800
SECONDARY_NE_QUAD_XY: 394330.46100 5400442.79500
SECONDARY_SE_QUAD_XY: 394199.45100 5393495.59300
SECONDARY_SW_QUAD_XY: 389599.55800 5393584.18100
RMSE_XY: 1.05000
IMAGE_SOURCE: BLACK AND WHITE FILM
SOURCE_IMAGE_ID: NAPP 8384 78
SOURCE_IMAGE_DATE: 1995 08 04
SOURCE_DEM_DATE: 1966 00 00
AGENCY: WESTERN MAPPING CENTER (WMC)
PRODUCER: ANALYTICAL SURVEYS INC.
PRODUCTION_SYSTEM: ORBIT OR_RECTIFY V.5.2
COMPRESSION: UNDEFINED
STANDARD_VERSION: 1996 12
METADATA_DATE: 1998 12 09
DATA_FILE_SIZE: 41707830
BYTE_COUNT: 5430
