FILENAME: O4811223.SWS.938474.tif
QUADRANGLE_NAME: ETHRIDGE NW
QUADRANT: SW
WEST_LONGITUDE: -112 15 0.00000
EAST_LONGITUDE: -112 11 15.00000
NORTH_LATITUDE: 48 41 15.00000
SOUTH_LATITUDE: 48 37 30.00000
PRODUCTION_DATE: 1998 12 08
RASTER_ORDER: LEFT_RIGHT/TOP_BOTTOM
BAND_ORGANIZATION: SINGLE FILE
BAND_CONTENT: BLACK&WHITE
BAND_CONTENT: UNDEFINED
BAND_CONTENT: UNDEFINED
BITS_PER_PIXEL: 8
SAMPLES_AND_LINES: 5400 7650
HORIZONTAL_DATUM: NAD83
HORIZONTAL_COORDINATE_SYSTEM: UTM
COORDINATE_ZONE: 12
HORIZONTAL_UNITS: METERS
HORIZONTAL_RESOLUTION: 1.00000
SECONDARY_HORIZONTAL_DATUM: NAD27
XY_ORIGIN: 407520.00000 5393790.00000
SECONDARY_XY_ORIGIN: 407581.98600 5393571.53700
NATION: US
STATE: MT
NW_QUAD_CORNER_XY: 408002.15900 5393471.42100
NE_QUAD_CORNER_XY: 412601.96500 5393397.91800
SE_QUAD_CORNERY_XY: 412493.85000 5386450.69400
SW_QUAD_CORNER_XY: 407888.35300 5386524.21800
SECONDARY_NW_QUAD_XY: 407999.22300 5393252.45200
SECONDARY_NE_QUAD_XY: 412599.17600 5393178.94700
SECONDARY_SE_QUAD_XY: 412491.06100 5386231.72900
SECONDARY_SW_QUAD_XY: 407885.41700 5386305.25500
RMSE_XY: 1.34000
IMAGE_SOURCE: BLACK AND WHITE FILM
SOURCE_IMAGE_ID: NAPP 8380 102
SOURCE_IMAGE_DATE: 1995 07 01
SOURCE_DEM_DATE: 1992 00 00
AGENCY: WESTERN MAPPING CENTER (WMC)
PRODUCER: ANALYTICAL SURVEYS INC.
PRODUCTION_SYSTEM: ORBIT OR_RECTIFY V.5.2
COMPRESSION: UNDEFINED
STANDARD_VERSION: 1996 12
METADATA_DATE: 1998 12 10
DATA_FILE_SIZE: 41315400
BYTE_COUNT: 5400
