FILENAME: O4811225.NWS.46627.tif
QUADRANGLE_NAME: BLACKFOOT
QUADRANT: NW
WEST_LONGITUDE: -113 0 0.00000
EAST_LONGITUDE: -112 56 15.00000
NORTH_LATITUDE: 48 37 30.00000
SOUTH_LATITUDE: 48 33 45.00000
PRODUCTION_DATE: 1994 12 22
RASTER_ORDER: LEFT_RIGHT/TOP_BOTTOM
BAND_ORGANIZATION: SINGLE FILE
BAND_CONTENT: BLACK&WHITE
BAND_CONTENT: UNDEFINED
BAND_CONTENT: UNDEFINED
BITS_PER_PIXEL: 8
SAMPLES_AND_LINES: 5458 7670
HORIZONTAL_DATUM: NAD83
HORIZONTAL_COORDINATE_SYSTEM: UTM
COORDINATE_ZONE: 12
HORIZONTAL_UNITS: METERS
HORIZONTAL_RESOLUTION: 1.00000
SECONDARY_HORIZONTAL_DATUM: NAD27
XY_ORIGIN: 352072.00000 5388001.00000
SECONDARY_XY_ORIGIN: 352135.09100 5387783.07000
NATION: US
STATE: MT
NW_QUAD_CORNER_XY: 352623.64700 5387700.72200
NE_QUAD_CORNER_XY: 357228.93500 5387581.92900
SE_QUAD_CORNERY_XY: 357052.67400 5380635.08600
SW_QUAD_CORNER_XY: 352441.69700 5380753.91100
SECONDARY_NW_QUAD_XY: 352618.94900 5387481.79600
SECONDARY_NE_QUAD_XY: 357224.38400 5387363.00000
SECONDARY_SE_QUAD_XY: 357048.12300 5380416.16400
SECONDARY_SW_QUAD_XY: 352436.99900 5380534.99200
RMSE_XY: 0.70000
IMAGE_SOURCE: BLACK AND WHITE FILM
SOURCE_IMAGE_ID: NAPP 2569 120
SOURCE_IMAGE_DATE: 1990 7 12
SOURCE_DEM_DATE: 1994 12 22
AGENCY: WESTERN MAPPING CENTER (WMC)
PRODUCER: Science Applications International
PRODUCTION_SYSTEM: GIS/MAGIC
COMPRESSION: UNDEFINED
STANDARD_VERSION: 1996 12
METADATA_DATE: 1997 7 4
DATA_FILE_SIZE: 41868318
BYTE_COUNT: 5458
