FILENAME: O4811227.NWS.943697.tif
QUADRANGLE_NAME: MISSION LAKE WEST
QUADRANT: NW
WEST_LONGITUDE: -112 45 0.00000
EAST_LONGITUDE: -112 41 15.00000
NORTH_LATITUDE: 48 37 30.00000
SOUTH_LATITUDE: 48 33 45.00000
PRODUCTION_DATE: 1998 12 07
RASTER_ORDER: LEFT_RIGHT/TOP_BOTTOM
BAND_ORGANIZATION: SINGLE FILE
BAND_CONTENT: BLACK&WHITE
BAND_CONTENT: UNDEFINED
BAND_CONTENT: UNDEFINED
BITS_PER_PIXEL: 8
SAMPLES_AND_LINES: 5460 7680
HORIZONTAL_DATUM: NAD83
HORIZONTAL_COORDINATE_SYSTEM: UTM
COORDINATE_ZONE: 12
HORIZONTAL_UNITS: METERS
HORIZONTAL_RESOLUTION: 1.00000
SECONDARY_HORIZONTAL_DATUM: NAD27
XY_ORIGIN: 370500.00000 5387550.00000
SECONDARY_XY_ORIGIN: 370562.72200 5387331.89700
NATION: US
STATE: MT
NW_QUAD_CORNER_XY: 371044.92300 5387248.19200
NE_QUAD_CORNER_XY: 375650.29100 5387144.49200
SE_QUAD_CORNERY_XY: 375496.78500 5380197.53000
SW_QUAD_CORNER_XY: 370885.72800 5380301.25800
SECONDARY_NW_QUAD_XY: 371040.81200 5387029.25200
SECONDARY_NE_QUAD_XY: 375646.32800 5386925.54900
SECONDARY_SE_QUAD_XY: 375492.82100 5379978.59400
SECONDARY_SW_QUAD_XY: 370881.61800 5380082.32500
RMSE_XY: 1.63000
IMAGE_SOURCE: BLACK AND WHITE FILM
SOURCE_IMAGE_ID: NAPP 8385 79
SOURCE_IMAGE_DATE: 1995 08 05
SOURCE_DEM_DATE: 1968 00 00
AGENCY: WESTERN MAPPING CENTER (WMC)
PRODUCER: ANALYTICAL SURVEYS INC.
PRODUCTION_SYSTEM: ORBIT OR_RECTIFY V.5.2
COMPRESSION: UNDEFINED
STANDARD_VERSION: 1996 12
METADATA_DATE: 1998 12 14
DATA_FILE_SIZE: 41938260
BYTE_COUNT: 5460
