FILENAME: O4811229.NWS.943677.tif
QUADRANGLE_NAME: SQUAW BUTTES
QUADRANT: NW
WEST_LONGITUDE: -112 30 0.00000
EAST_LONGITUDE: -112 26 15.00000
NORTH_LATITUDE: 48 37 30.00000
SOUTH_LATITUDE: 48 33 45.00000
PRODUCTION_DATE: 1998 12 08
RASTER_ORDER: LEFT_RIGHT/TOP_BOTTOM
BAND_ORGANIZATION: SINGLE FILE
BAND_CONTENT: BLACK&WHITE
BAND_CONTENT: UNDEFINED
BAND_CONTENT: UNDEFINED
BITS_PER_PIXEL: 8
SAMPLES_AND_LINES: 5430 7650
HORIZONTAL_DATUM: NAD83
HORIZONTAL_COORDINATE_SYSTEM: UTM
COORDINATE_ZONE: 12
HORIZONTAL_UNITS: METERS
HORIZONTAL_RESOLUTION: 1.00000
SECONDARY_HORIZONTAL_DATUM: NAD27
XY_ORIGIN: 388950.00000 5387160.00000
SECONDARY_XY_ORIGIN: 389012.34200 5386941.74400
NATION: US
STATE: MT
NW_QUAD_CORNER_XY: 389466.50600 5386856.02800
NE_QUAD_CORNER_XY: 394071.94500 5386767.41800
SE_QUAD_CORNERY_XY: 393941.18800 5379820.35300
SW_QUAD_CORNER_XY: 389330.06300 5379908.98700
SECONDARY_NW_QUAD_XY: 389462.98300 5386637.07600
SECONDARY_NE_QUAD_XY: 394068.56800 5386548.46300
SECONDARY_SE_QUAD_XY: 393937.81200 5379601.40400
SECONDARY_SW_QUAD_XY: 389326.53900 5379690.04200
RMSE_XY: 2.00000
IMAGE_SOURCE: BLACK AND WHITE FILM
SOURCE_IMAGE_ID: NAPP 8384 82
SOURCE_IMAGE_DATE: 1995 08 04
SOURCE_DEM_DATE: 1992 00 00
AGENCY: WESTERN MAPPING CENTER (WMC)
PRODUCER: ANALYTICAL SURVEYS INC.
PRODUCTION_SYSTEM: ORBIT OR_RECTIFY V.5.2
COMPRESSION: UNDEFINED
STANDARD_VERSION: 1996 12
METADATA_DATE: 1998 12 10
DATA_FILE_SIZE: 41544930
BYTE_COUNT: 5430
