FILENAME: O4811232.SWS.46053.tif
QUADRANGLE_NAME: ETHRIDGE
QUADRANT: SW
WEST_LONGITUDE: -112 7 30.00000
EAST_LONGITUDE: -112 3 45.00000
NORTH_LATITUDE: 48 33 45.00000
SOUTH_LATITUDE: 48 30 0.00000
PRODUCTION_DATE: 1995 6 28
RASTER_ORDER: LEFT_RIGHT/TOP_BOTTOM
BAND_ORGANIZATION: SINGLE FILE
BAND_CONTENT: BLACK&WHITE
BAND_CONTENT: UNDEFINED
BAND_CONTENT: UNDEFINED
BITS_PER_PIXEL: 8
SAMPLES_AND_LINES: 5324 7624
HORIZONTAL_DATUM: NAD83
HORIZONTAL_COORDINATE_SYSTEM: UTM
COORDINATE_ZONE: 12
HORIZONTAL_UNITS: METERS
HORIZONTAL_RESOLUTION: 1.00000
SECONDARY_HORIZONTAL_DATUM: NAD27
XY_ORIGIN: 416590.50000 5379738.50000
SECONDARY_XY_ORIGIN: 416652.20300 5379520.35600
NATION: US
STATE: MT
NW_QUAD_CORNER_XY: 416997.03700 5379433.77200
NE_QUAD_CORNER_XY: 421608.24600 5379367.77200
SE_QUAD_CORNERY_XY: 421511.70200 5372420.65700
SW_QUAD_CORNER_XY: 416894.81300 5372486.67400
SECONDARY_NW_QUAD_XY: 416994.39500 5379214.81100
SECONDARY_NE_QUAD_XY: 421605.75000 5379148.81000
SECONDARY_SE_QUAD_XY: 421509.20600 5372201.70200
SECONDARY_SW_QUAD_XY: 416892.17000 5372267.72100
RMSE_XY: 1.50000
IMAGE_SOURCE: BLACK AND WHITE FILM
SOURCE_IMAGE_ID: NAPP 2566 050
SOURCE_IMAGE_DATE: 1990 6 26
SOURCE_DEM_DATE: 1995 6 28
AGENCY: WESTERN MAPPING CENTER (WMC)
PRODUCER: Woolpert Consultants
PRODUCTION_SYSTEM: INTERGRAPH ISPM,ISIR
COMPRESSION: UNDEFINED
STANDARD_VERSION: 1996 12
METADATA_DATE: 1997 6 15
DATA_FILE_SIZE: 40595500
BYTE_COUNT: 5324
