FILENAME: O4811233.SES.46632.tif
QUADRANGLE_NAME: MAGEE RANCH
QUADRANT: SE
WEST_LONGITUDE: -112 56 15.00000
EAST_LONGITUDE: -112 52 30.00000
NORTH_LATITUDE: 48 26 15.00000
SOUTH_LATITUDE: 48 22 30.00000
PRODUCTION_DATE: 1994 12 22
RASTER_ORDER: LEFT_RIGHT/TOP_BOTTOM
BAND_ORGANIZATION: SINGLE FILE
BAND_CONTENT: BLACK&WHITE
BAND_CONTENT: UNDEFINED
BAND_CONTENT: UNDEFINED
BITS_PER_PIXEL: 8
SAMPLES_AND_LINES: 5469 7666
HORIZONTAL_DATUM: NAD83
HORIZONTAL_COORDINATE_SYSTEM: UTM
COORDINATE_ZONE: 12
HORIZONTAL_UNITS: METERS
HORIZONTAL_RESOLUTION: 1.00000
SECONDARY_HORIZONTAL_DATUM: NAD27
XY_ORIGIN: 356156.00000 5367042.00000
SECONDARY_XY_ORIGIN: 356218.79100 5366824.68100
NATION: US
STATE: MT
NW_QUAD_CORNER_XY: 356700.66600 5366741.60100
NE_QUAD_CORNER_XY: 361323.02600 5366626.49000
SE_QUAD_CORNERY_XY: 361152.95200 5359679.81900
SW_QUAD_CORNER_XY: 356524.91900 5359794.96000
SECONDARY_NW_QUAD_XY: 356696.11500 5366522.69500
SECONDARY_NE_QUAD_XY: 361318.62200 5366407.58000
SECONDARY_SE_QUAD_XY: 361148.54800 5359460.91800
SECONDARY_SW_QUAD_XY: 356520.36900 5359576.06300
RMSE_XY: 0.60000
IMAGE_SOURCE: BLACK AND WHITE FILM
SOURCE_IMAGE_ID: NAPP 2569 103
SOURCE_IMAGE_DATE: 1990 7 12
SOURCE_DEM_DATE: 1994 12 22
AGENCY: WESTERN MAPPING CENTER (WMC)
PRODUCER: Science Applications International
PRODUCTION_SYSTEM: GIS/MAGIC
COMPRESSION: UNDEFINED
STANDARD_VERSION: 1996 12
METADATA_DATE: 1997 7 8
DATA_FILE_SIZE: 41930823
BYTE_COUNT: 5469
