FILENAME: O4811234.SES.933932.tif
QUADRANGLE_NAME: WHITE MAN COULEE
QUADRANT: SE
WEST_LONGITUDE: -112 48 45.00000
EAST_LONGITUDE: -112 45 0.00000
NORTH_LATITUDE: 48 26 15.00000
SOUTH_LATITUDE: 48 22 30.00000
PRODUCTION_DATE: 1998 10 12
RASTER_ORDER: LEFT_RIGHT/TOP_BOTTOM
BAND_ORGANIZATION: SINGLE FILE
BAND_CONTENT: BLACK&WHITE
BAND_CONTENT: UNDEFINED
BAND_CONTENT: UNDEFINED
BITS_PER_PIXEL: 8
SAMPLES_AND_LINES: 5490 7680
HORIZONTAL_DATUM: NAD83
HORIZONTAL_COORDINATE_SYSTEM: UTM
COORDINATE_ZONE: 12
HORIZONTAL_UNITS: METERS
HORIZONTAL_RESOLUTION: 1.00000
SECONDARY_HORIZONTAL_DATUM: NAD27
XY_ORIGIN: 365400.00000 5366820.00000
SECONDARY_XY_ORIGIN: 365462.56200 5366602.52600
NATION: US
STATE: MT
NW_QUAD_CORNER_XY: 365945.40500 5366515.15500
NE_QUAD_CORNER_XY: 370567.80400 5366407.59600
SE_QUAD_CORNERY_XY: 370409.07400 5359460.86800
SW_QUAD_CORNER_XY: 365781.00400 5359568.45500
SECONDARY_NW_QUAD_XY: 365941.14800 5366296.24200
SECONDARY_NE_QUAD_XY: 370563.69400 5366188.67900
SECONDARY_SE_QUAD_XY: 370404.96400 5359241.96100
SECONDARY_SW_QUAD_XY: 365776.74700 5359349.55100
RMSE_XY: 1.93200
IMAGE_SOURCE: BLACK AND WHITE FILM
SOURCE_IMAGE_ID: NAPP 8384 115
SOURCE_IMAGE_DATE: 1995 08 04
SOURCE_DEM_DATE: 1968 01 01
AGENCY: WESTERN MAPPING CENTER (WMC)
PRODUCER: ANALYTICAL SURVEYS INC.
PRODUCTION_SYSTEM: ORBIT OR_RECTIFY V.5.2
COMPRESSION: UNDEFINED
STANDARD_VERSION: 1996 12
METADATA_DATE: 1998 10 13
DATA_FILE_SIZE: 42168690
BYTE_COUNT: 5490
