FILENAME: O4811238.SWS.943743.tif
QUADRANGLE_NAME: ROCK CITY
QUADRANT: SW
WEST_LONGITUDE: -112 22 30.00000
EAST_LONGITUDE: -112 18 45.00000
NORTH_LATITUDE: 48 26 15.00000
SOUTH_LATITUDE: 48 22 30.00000
PRODUCTION_DATE: 1998 12 10
RASTER_ORDER: LEFT_RIGHT/TOP_BOTTOM
BAND_ORGANIZATION: SINGLE FILE
BAND_CONTENT: BLACK&WHITE
BAND_CONTENT: UNDEFINED
BAND_CONTENT: UNDEFINED
BITS_PER_PIXEL: 8
SAMPLES_AND_LINES: 5430 7650
HORIZONTAL_DATUM: NAD83
HORIZONTAL_COORDINATE_SYSTEM: UTM
COORDINATE_ZONE: 12
HORIZONTAL_UNITS: METERS
HORIZONTAL_RESOLUTION: 1.00000
SECONDARY_HORIZONTAL_DATUM: NAD27
XY_ORIGIN: 397800.00000 5366160.00000
SECONDARY_XY_ORIGIN: 397861.96200 5365942.21600
NATION: US
STATE: MT
NW_QUAD_CORNER_XY: 398302.55700 5365841.52900
NE_QUAD_CORNER_XY: 402925.06900 5365760.39800
SE_QUAD_CORNERY_XY: 402806.03600 5358813.50300
SW_QUAD_CORNER_XY: 398177.85300 5358894.65600
SECONDARY_NW_QUAD_XY: 398299.32700 5365622.59400
SECONDARY_NE_QUAD_XY: 402921.98700 5365541.46000
SECONDARY_SE_QUAD_XY: 402802.95300 5358594.57500
SECONDARY_SW_QUAD_XY: 398174.62400 5358675.73000
RMSE_XY: 1.92000
IMAGE_SOURCE: BLACK AND WHITE FILM
SOURCE_IMAGE_ID: NAPP 8381 79
SOURCE_IMAGE_DATE: 1995 07 28
SOURCE_DEM_DATE: 1992 00 00
AGENCY: WESTERN MAPPING CENTER (WMC)
PRODUCER: ANALYTICAL SURVEYS INC.
PRODUCTION_SYSTEM: ORBIT OR_RECTIFY V.5.2
COMPRESSION: UNDEFINED
STANDARD_VERSION: 1996 12
METADATA_DATE: 1998 12 16
DATA_FILE_SIZE: 41544930
BYTE_COUNT: 5430
