FILENAME: O4811238.NES.943740.tif
QUADRANGLE_NAME: ROCK CITY
QUADRANT: NE
WEST_LONGITUDE: -112 18 45.00000
EAST_LONGITUDE: -112 15 0.00000
NORTH_LATITUDE: 48 30 0.00000
SOUTH_LATITUDE: 48 26 15.00000
PRODUCTION_DATE: 1998 12 14
RASTER_ORDER: LEFT_RIGHT/TOP_BOTTOM
BAND_ORGANIZATION: SINGLE FILE
BAND_CONTENT: BLACK&WHITE
BAND_CONTENT: UNDEFINED
BAND_CONTENT: UNDEFINED
BITS_PER_PIXEL: 8
SAMPLES_AND_LINES: 5430 7650
HORIZONTAL_DATUM: NAD83
HORIZONTAL_COORDINATE_SYSTEM: UTM
COORDINATE_ZONE: 12
HORIZONTAL_UNITS: METERS
HORIZONTAL_RESOLUTION: 1.00000
SECONDARY_HORIZONTAL_DATUM: NAD27
XY_ORIGIN: 402540.00000 5373030.00000
SECONDARY_XY_ORIGIN: 402601.91800 5372812.02400
NATION: US
STATE: MT
NW_QUAD_CORNER_XY: 403044.22000 5372707.36400
NE_QUAD_CORNER_XY: 407661.07100 5372630.02700
SE_QUAD_CORNERY_XY: 407547.59600 5365683.04100
SW_QUAD_CORNER_XY: 402925.06900 5365760.39800
SECONDARY_NW_QUAD_XY: 403041.13700 5372488.41800
SECONDARY_NE_QUAD_XY: 407658.13500 5372411.07900
SECONDARY_SE_QUAD_XY: 407544.66000 5365464.10100
SECONDARY_SW_QUAD_XY: 402921.98700 5365541.46000
RMSE_XY: 2.12000
IMAGE_SOURCE: BLACK AND WHITE FILM
SOURCE_IMAGE_ID: NAPP 8381 41
SOURCE_IMAGE_DATE: 1995 07 28
SOURCE_IMAGE_ID: NAPP 8381 40
SOURCE_IMAGE_DATE: 1995 07 28
SOURCE_IMAGE_ID: NAPP 8381 43
SOURCE_IMAGE_DATE: 1995 07 28
SOURCE_DEM_DATE: 1992 00 00
AGENCY: WESTERN MAPPING CENTER (WMC)
PRODUCER: ANALYTICAL SURVEYS INC.
PRODUCTION_SYSTEM: ORBIT OR_RECTIFY V.5.2
COMPRESSION: UNDEFINED
STANDARD_VERSION: 1996 12
METADATA_DATE: 1998 12 16
DATA_FILE_SIZE: 41544930
BYTE_COUNT: 5430
