FILENAME: O4811239.NES.938491.tif
QUADRANGLE_NAME: ABBOTT LAKE
QUADRANT: NE
WEST_LONGITUDE: -112 11 15.00000
EAST_LONGITUDE: -112 7 30.00000
NORTH_LATITUDE: 48 30 0.00000
SOUTH_LATITUDE: 48 26 15.00000
PRODUCTION_DATE: 1998 12 08
RASTER_ORDER: LEFT_RIGHT/TOP_BOTTOM
BAND_ORGANIZATION: SINGLE FILE
BAND_CONTENT: BLACK&WHITE
BAND_CONTENT: UNDEFINED
BAND_CONTENT: UNDEFINED
BITS_PER_PIXEL: 8
SAMPLES_AND_LINES: 5430 7650
HORIZONTAL_DATUM: NAD83
HORIZONTAL_COORDINATE_SYSTEM: UTM
COORDINATE_ZONE: 12
HORIZONTAL_UNITS: METERS
HORIZONTAL_RESOLUTION: 1.00000
SECONDARY_HORIZONTAL_DATUM: NAD27
XY_ORIGIN: 411780.00000 5372880.00000
SECONDARY_XY_ORIGIN: 411841.71000 5372662.03400
NATION: US
STATE: MT
NW_QUAD_CORNER_XY: 412277.93500 5372556.46400
NE_QUAD_CORNER_XY: 416894.81300 5372486.67400
SE_QUAD_CORNERY_XY: 416792.68800 5365539.65000
SW_QUAD_CORNER_XY: 412170.13600 5365609.45800
SECONDARY_NW_QUAD_XY: 412275.14600 5372337.51300
SECONDARY_NE_QUAD_XY: 416892.17000 5372267.72100
SECONDARY_SE_QUAD_XY: 416790.04600 5365320.70500
SECONDARY_SW_QUAD_XY: 412167.34700 5365390.51600
RMSE_XY: 1.55000
IMAGE_SOURCE: BLACK AND WHITE FILM
SOURCE_IMAGE_ID: NAPP 8380 73
SOURCE_IMAGE_DATE: 1995 07 01
SOURCE_DEM_DATE: 1992 00 00
AGENCY: WESTERN MAPPING CENTER (WMC)
PRODUCER: ANALYTICAL SURVEYS INC.
PRODUCTION_SYSTEM: ORBIT OR_RECTIFY V.5.2
COMPRESSION: UNDEFINED
STANDARD_VERSION: 1996 12
METADATA_DATE: 1998 12 11
DATA_FILE_SIZE: 41544930
BYTE_COUNT: 5430
