FILENAME: O4811241.NES.46634.tif
QUADRANGLE_NAME: MITTEN LAKE
QUADRANT: NE
WEST_LONGITUDE: -112 56 15.00000
EAST_LONGITUDE: -112 52 30.00000
NORTH_LATITUDE: 48 22 30.00000
SOUTH_LATITUDE: 48 18 45.00000
PRODUCTION_DATE: 1994 12 22
RASTER_ORDER: LEFT_RIGHT/TOP_BOTTOM
BAND_ORGANIZATION: SINGLE FILE
BAND_CONTENT: BLACK&WHITE
BAND_CONTENT: UNDEFINED
BAND_CONTENT: UNDEFINED
BITS_PER_PIXEL: 8
SAMPLES_AND_LINES: 5473 7666
HORIZONTAL_DATUM: NAD83
HORIZONTAL_COORDINATE_SYSTEM: UTM
COORDINATE_ZONE: 12
HORIZONTAL_UNITS: METERS
HORIZONTAL_RESOLUTION: 1.00000
SECONDARY_HORIZONTAL_DATUM: NAD27
XY_ORIGIN: 355981.00000 5360095.00000
SECONDARY_XY_ORIGIN: 356043.69200 5359877.92700
NATION: US
STATE: MT
NW_QUAD_CORNER_XY: 356524.91900 5359794.96000
NE_QUAD_CORNER_XY: 361152.95200 5359679.81900
SE_QUAD_CORNERY_XY: 360983.04400 5352733.21500
SW_QUAD_CORNER_XY: 356349.34500 5352848.38500
SECONDARY_NW_QUAD_XY: 356520.36900 5359576.06300
SECONDARY_NE_QUAD_XY: 361148.54800 5359460.91800
SECONDARY_SE_QUAD_XY: 360978.64100 5352514.32500
SECONDARY_SW_QUAD_XY: 356344.79500 5352629.49900
RMSE_XY: 1.30000
IMAGE_SOURCE: BLACK AND WHITE FILM
SOURCE_IMAGE_ID: NAPP 2569 105
SOURCE_IMAGE_DATE: 1990 7 12
SOURCE_DEM_DATE: 1994 12 22
AGENCY: WESTERN MAPPING CENTER (WMC)
PRODUCER: Science Applications International
PRODUCTION_SYSTEM: GIS/MAGIC
COMPRESSION: UNDEFINED
STANDARD_VERSION: 1996 12
METADATA_DATE: 1997 7 8
DATA_FILE_SIZE: 41961491
BYTE_COUNT: 5473
