FILENAME: O4811243.SES.943710.tif
QUADRANGLE_NAME: FOUR HORNS LAKE
QUADRANT: SE
WEST_LONGITUDE: -112 41 15.00000
EAST_LONGITUDE: -112 37 30.00000
NORTH_LATITUDE: 48 18 45.00000
SOUTH_LATITUDE: 48 15 0.00000
PRODUCTION_DATE: 1998 12 07
RASTER_ORDER: LEFT_RIGHT/TOP_BOTTOM
BAND_ORGANIZATION: SINGLE FILE
BAND_CONTENT: BLACK&WHITE
BAND_CONTENT: UNDEFINED
BAND_CONTENT: UNDEFINED
BITS_PER_PIXEL: 8
SAMPLES_AND_LINES: 5490 7680
HORIZONTAL_DATUM: NAD83
HORIZONTAL_COORDINATE_SYSTEM: UTM
COORDINATE_ZONE: 12
HORIZONTAL_UNITS: METERS
HORIZONTAL_RESOLUTION: 1.00000
SECONDARY_HORIZONTAL_DATUM: NAD27
XY_ORIGIN: 374340.00000 5352720.00000
SECONDARY_XY_ORIGIN: 374402.17500 5352502.77600
NATION: US
STATE: MT
NW_QUAD_CORNER_XY: 374884.25500 5352410.37300
NE_QUAD_CORNER_XY: 379518.02700 5352310.31500
SE_QUAD_CORNERY_XY: 379370.92900 5345363.67400
SW_QUAD_CORNER_XY: 374731.49700 5345463.75700
SECONDARY_NW_QUAD_XY: 374880.29200 5352191.47200
SECONDARY_NE_QUAD_XY: 379514.21000 5352091.41100
SECONDARY_SE_QUAD_XY: 379367.11300 5345144.78100
SECONDARY_SW_QUAD_XY: 374727.53400 5345244.86700
RMSE_XY: 2.42000
IMAGE_SOURCE: BLACK AND WHITE FILM
SOURCE_IMAGE_ID: NAPP 8385 52
SOURCE_IMAGE_DATE: 1995 08 05
SOURCE_IMAGE_ID: NAPP 8385 50
SOURCE_IMAGE_DATE: 1995 08 05
SOURCE_DEM_DATE: 1992 00 00
AGENCY: WESTERN MAPPING CENTER (WMC)
PRODUCER: ANALYTICAL SURVEYS INC.
PRODUCTION_SYSTEM: ORBIT OR_RECTIFY V.5.2
COMPRESSION: UNDEFINED
STANDARD_VERSION: 1996 12
METADATA_DATE: 1998 12 14
DATA_FILE_SIZE: 42168690
BYTE_COUNT: 5490
