FILENAME: O4811246.NWS.943745.tif
QUADRANGLE_NAME: VALIER WEST
QUADRANT: NW
WEST_LONGITUDE: -112 22 30.00000
EAST_LONGITUDE: -112 18 45.00000
NORTH_LATITUDE: 48 22 30.00000
SOUTH_LATITUDE: 48 18 45.00000
PRODUCTION_DATE: 1998 12 10
RASTER_ORDER: LEFT_RIGHT/TOP_BOTTOM
BAND_ORGANIZATION: SINGLE FILE
BAND_CONTENT: BLACK&WHITE
BAND_CONTENT: UNDEFINED
BAND_CONTENT: UNDEFINED
BITS_PER_PIXEL: 8
SAMPLES_AND_LINES: 5430 7650
HORIZONTAL_DATUM: NAD83
HORIZONTAL_COORDINATE_SYSTEM: UTM
COORDINATE_ZONE: 12
HORIZONTAL_UNITS: METERS
HORIZONTAL_RESOLUTION: 1.00000
SECONDARY_HORIZONTAL_DATUM: NAD27
XY_ORIGIN: 397680.00000 5359200.00000
SECONDARY_XY_ORIGIN: 397741.90300 5358982.41000
NATION: US
STATE: MT
NW_QUAD_CORNER_XY: 398177.85300 5358894.65600
NE_QUAD_CORNER_XY: 402806.03600 5358813.50300
SE_QUAD_CORNERY_XY: 402687.11900 5351866.68000
SW_QUAD_CORNER_XY: 398053.27100 5351947.85300
SECONDARY_NW_QUAD_XY: 398174.62400 5358675.73000
SECONDARY_NE_QUAD_XY: 402802.95300 5358594.57500
SECONDARY_SE_QUAD_XY: 402684.03600 5351647.76200
SECONDARY_SW_QUAD_XY: 398050.04200 5351728.93800
RMSE_XY: 1.73000
IMAGE_SOURCE: BLACK AND WHITE FILM
SOURCE_IMAGE_ID: NAPP 8381 81
SOURCE_IMAGE_DATE: 1995 07 28
SOURCE_DEM_DATE: 1992 00 00
AGENCY: WESTERN MAPPING CENTER (WMC)
PRODUCER: ANALYTICAL SURVEYS INC.
PRODUCTION_SYSTEM: ORBIT OR_RECTIFY V.5.2
COMPRESSION: UNDEFINED
STANDARD_VERSION: 1996 12
METADATA_DATE: 1998 12 16
DATA_FILE_SIZE: 41544930
BYTE_COUNT: 5430
