FILENAME: O4811247.NWS.938496.tif
QUADRANGLE_NAME: VALIER EAST
QUADRANT: NW
WEST_LONGITUDE: -112 15 0.00000
EAST_LONGITUDE: -112 11 15.00000
NORTH_LATITUDE: 48 22 30.00000
SOUTH_LATITUDE: 48 18 45.00000
PRODUCTION_DATE: 1998 12 08
RASTER_ORDER: LEFT_RIGHT/TOP_BOTTOM
BAND_ORGANIZATION: SINGLE FILE
BAND_CONTENT: BLACK&WHITE
BAND_CONTENT: UNDEFINED
BAND_CONTENT: UNDEFINED
BITS_PER_PIXEL: 8
SAMPLES_AND_LINES: 5430 7650
HORIZONTAL_DATUM: NAD83
HORIZONTAL_COORDINATE_SYSTEM: UTM
COORDINATE_ZONE: 12
HORIZONTAL_UNITS: METERS
HORIZONTAL_RESOLUTION: 1.00000
SECONDARY_HORIZONTAL_DATUM: NAD27
XY_ORIGIN: 406950.00000 5359050.00000
SECONDARY_XY_ORIGIN: 407011.75600 5358832.44000
NATION: US
STATE: MT
NW_QUAD_CORNER_XY: 407434.23200 5358736.12600
NE_QUAD_CORNER_XY: 412062.44100 5358662.52400
SE_QUAD_CORNERY_XY: 411954.85300 5351715.66400
SW_QUAD_CORNER_XY: 407320.97900 5351789.28400
SECONDARY_NW_QUAD_XY: 407431.29700 5358517.19500
SECONDARY_NE_QUAD_XY: 412059.65300 5358443.59100
SECONDARY_SE_QUAD_XY: 411952.06400 5351496.74100
SECONDARY_SW_QUAD_XY: 407318.04400 5351570.36300
RMSE_XY: 1.03000
IMAGE_SOURCE: BLACK AND WHITE FILM
SOURCE_IMAGE_ID: NAPP 8380 112
SOURCE_IMAGE_DATE: 1995 07 01
SOURCE_DEM_DATE: 1985 00 00
AGENCY: WESTERN MAPPING CENTER (WMC)
PRODUCER: ANALYTICAL SURVEYS INC.
PRODUCTION_SYSTEM: ORBIT OR_RECTIFY V.5.2
COMPRESSION: UNDEFINED
STANDARD_VERSION: 1996 12
METADATA_DATE: 1998 12 11
DATA_FILE_SIZE: 41544930
BYTE_COUNT: 5430
