FILENAME: O4811248.NWS.938747.tif
QUADRANGLE_NAME: BELGIAN HILL
QUADRANT: NW
WEST_LONGITUDE: -112 7 30.00000
EAST_LONGITUDE: -112 3 45.00000
NORTH_LATITUDE: 48 22 30.00000
SOUTH_LATITUDE: 48 18 45.00000
PRODUCTION_DATE: 1998 12 07
RASTER_ORDER: LEFT_RIGHT/TOP_BOTTOM
BAND_ORGANIZATION: SINGLE FILE
BAND_CONTENT: BLACK&WHITE
BAND_CONTENT: UNDEFINED
BAND_CONTENT: UNDEFINED
BITS_PER_PIXEL: 8
SAMPLES_AND_LINES: 5400 7650
HORIZONTAL_DATUM: NAD83
HORIZONTAL_COORDINATE_SYSTEM: UTM
COORDINATE_ZONE: 12
HORIZONTAL_UNITS: METERS
HORIZONTAL_RESOLUTION: 1.00000
SECONDARY_HORIZONTAL_DATUM: NAD27
XY_ORIGIN: 416220.00000 5358900.00000
SECONDARY_XY_ORIGIN: 416281.57500 5358682.39700
NATION: US
STATE: MT
NW_QUAD_CORNER_XY: 416690.66300 5358592.69800
NE_QUAD_CORNER_XY: 421318.89600 5358526.64700
SE_QUAD_CORNERY_XY: 421222.63400 5351579.75200
SW_QUAD_CORNER_XY: 416588.73800 5351645.82000
SECONDARY_NW_QUAD_XY: 416688.02100 5358373.76300
SECONDARY_NE_QUAD_XY: 421316.40100 5358307.71000
SECONDARY_SE_QUAD_XY: 421220.13900 5351360.82500
SECONDARY_SW_QUAD_XY: 416586.09600 5351426.89500
RMSE_XY: 2.56000
IMAGE_SOURCE: BLACK AND WHITE FILM
SOURCE_IMAGE_ID: NAPP 9487 31
SOURCE_IMAGE_DATE: 1995 08 27
SOURCE_DEM_DATE: 1992 00 00
AGENCY: WESTERN MAPPING CENTER (WMC)
PRODUCER: ANALYTICAL SURVEYS INC.
PRODUCTION_SYSTEM: ORBIT OR_RECTIFY V.5.2
COMPRESSION: UNDEFINED
STANDARD_VERSION: 1996 12
METADATA_DATE: 1998 12 11
DATA_FILE_SIZE: 41315400
BYTE_COUNT: 5400
