FILENAME: O4811251.NWS.943653.tif
QUADRANGLE_NAME: SCOFFIN BUTTE
QUADRANT: NW
WEST_LONGITUDE: -112 45 0.00000
EAST_LONGITUDE: -112 41 15.00000
NORTH_LATITUDE: 48 15 0.00000
SOUTH_LATITUDE: 48 11 15.00000
PRODUCTION_DATE: 1998 12 08
RASTER_ORDER: LEFT_RIGHT/TOP_BOTTOM
BAND_ORGANIZATION: SINGLE FILE
BAND_CONTENT: BLACK&WHITE
BAND_CONTENT: UNDEFINED
BAND_CONTENT: UNDEFINED
BITS_PER_PIXEL: 8
SAMPLES_AND_LINES: 5520 7680
HORIZONTAL_DATUM: NAD83
HORIZONTAL_COORDINATE_SYSTEM: UTM
COORDINATE_ZONE: 12
HORIZONTAL_UNITS: METERS
HORIZONTAL_RESOLUTION: 1.00000
SECONDARY_HORIZONTAL_DATUM: NAD27
XY_ORIGIN: 369540.00000 5345880.00000
SECONDARY_XY_ORIGIN: 369602.14400 5345663.01900
NATION: US
STATE: MT
NW_QUAD_CORNER_XY: 370092.08200 5345567.61900
NE_QUAD_CORNER_XY: 374731.49700 5345463.75700
SE_QUAD_CORNERY_XY: 374578.88900 5338517.21100
SW_QUAD_CORNER_XY: 369933.81900 5338621.09800
SECONDARY_NW_QUAD_XY: 370087.97200 5345348.73300
SECONDARY_NE_QUAD_XY: 374727.53400 5345244.86700
SECONDARY_SE_QUAD_XY: 374574.92700 5338298.33300
SECONDARY_SW_QUAD_XY: 369929.71000 5338402.22300
RMSE_XY: 1.54000
IMAGE_SOURCE: BLACK AND WHITE FILM
SOURCE_IMAGE_ID: NAPP 8385 67
SOURCE_IMAGE_DATE: 1995 08 05
SOURCE_DEM_DATE: 1992 00 00
AGENCY: WESTERN MAPPING CENTER (WMC)
PRODUCER: ANALYTICAL SURVEYS INC.
PRODUCTION_SYSTEM: ORBIT OR_RECTIFY V.5.2
COMPRESSION: UNDEFINED
STANDARD_VERSION: 1996 12
METADATA_DATE: 1998 12 10
DATA_FILE_SIZE: 42399120
BYTE_COUNT: 5520
