FILENAME: O4811252.SES.943658.tif
QUADRANGLE_NAME: DUPUYER WEST
QUADRANT: SE
WEST_LONGITUDE: -112 33 45.00000
EAST_LONGITUDE: -112 30 0.00000
NORTH_LATITUDE: 48 11 15.00000
SOUTH_LATITUDE: 48 7 30.00000
PRODUCTION_DATE: 1998 12 08
RASTER_ORDER: LEFT_RIGHT/TOP_BOTTOM
BAND_ORGANIZATION: SINGLE FILE
BAND_CONTENT: BLACK&WHITE
BAND_CONTENT: UNDEFINED
BAND_CONTENT: UNDEFINED
BITS_PER_PIXEL: 8
SAMPLES_AND_LINES: 5490 7680
HORIZONTAL_DATUM: NAD83
HORIZONTAL_COORDINATE_SYSTEM: UTM
COORDINATE_ZONE: 12
HORIZONTAL_UNITS: METERS
HORIZONTAL_RESOLUTION: 1.00000
SECONDARY_HORIZONTAL_DATUM: NAD27
XY_ORIGIN: 383340.00000 5338650.00000
SECONDARY_XY_ORIGIN: 383401.86300 5338433.36000
NATION: US
STATE: MT
NW_QUAD_CORNER_XY: 383869.07800 5338320.77400
NE_QUAD_CORNER_XY: 388514.19600 5338228.22500
SE_QUAD_CORNERY_XY: 388378.68500 5331281.67900
SW_QUAD_CORNER_XY: 383727.91900 5331374.25000
SECONDARY_NW_QUAD_XY: 383865.40900 5338101.89000
SECONDARY_NE_QUAD_XY: 388510.67400 5338009.33800
SECONDARY_SE_QUAD_XY: 388375.16300 5331062.80500
SECONDARY_SW_QUAD_XY: 383724.25000 5331155.37900
RMSE_XY: 1.89000
IMAGE_SOURCE: BLACK AND WHITE FILM
SOURCE_IMAGE_ID: NAPP 8384 175
SOURCE_IMAGE_DATE: 1995 08 05
SOURCE_DEM_DATE: 1987 00 00
AGENCY: WESTERN MAPPING CENTER (WMC)
PRODUCER: ANALYTICAL SURVEYS INC.
PRODUCTION_SYSTEM: ORBIT OR_RECTIFY V.5.2
COMPRESSION: UNDEFINED
STANDARD_VERSION: 1996 12
METADATA_DATE: 1998 12 10
DATA_FILE_SIZE: 42168690
BYTE_COUNT: 5490
