FILENAME: O4811252.NES.943656.tif
QUADRANGLE_NAME: DUPUYER WEST
QUADRANT: NE
WEST_LONGITUDE: -112 33 45.00000
EAST_LONGITUDE: -112 30 0.00000
NORTH_LATITUDE: 48 15 0.00000
SOUTH_LATITUDE: 48 11 15.00000
PRODUCTION_DATE: 1998 12 08
RASTER_ORDER: LEFT_RIGHT/TOP_BOTTOM
BAND_ORGANIZATION: SINGLE FILE
BAND_CONTENT: BLACK&WHITE
BAND_CONTENT: UNDEFINED
BAND_CONTENT: UNDEFINED
BITS_PER_PIXEL: 8
SAMPLES_AND_LINES: 5460 7680
HORIZONTAL_DATUM: NAD83
HORIZONTAL_COORDINATE_SYSTEM: UTM
COORDINATE_ZONE: 12
HORIZONTAL_UNITS: METERS
HORIZONTAL_RESOLUTION: 1.00000
SECONDARY_HORIZONTAL_DATUM: NAD27
XY_ORIGIN: 383490.00000 5345580.00000
SECONDARY_XY_ORIGIN: 383551.95000 5345362.81000
NATION: US
STATE: MT
NW_QUAD_CORNER_XY: 384010.37700 5345267.36900
NE_QUAD_CORNER_XY: 388649.84100 5345174.84200
SE_QUAD_CORNERY_XY: 388514.19600 5338228.22500
SW_QUAD_CORNER_XY: 383869.07800 5338320.77400
SECONDARY_NW_QUAD_XY: 384006.70800 5345048.47300
SECONDARY_NE_QUAD_XY: 388646.31800 5344955.94300
SECONDARY_SE_QUAD_XY: 388510.67400 5338009.33800
SECONDARY_SW_QUAD_XY: 383865.40900 5338101.89000
RMSE_XY: 0.86000
IMAGE_SOURCE: BLACK AND WHITE FILM
SOURCE_IMAGE_ID: NAPP 8384 177
SOURCE_IMAGE_DATE: 1995 08 05
SOURCE_DEM_DATE: 1987 00 00
AGENCY: WESTERN MAPPING CENTER (WMC)
PRODUCER: ANALYTICAL SURVEYS INC.
PRODUCTION_SYSTEM: ORBIT OR_RECTIFY V.5.2
COMPRESSION: UNDEFINED
STANDARD_VERSION: 1996 12
METADATA_DATE: 1998 12 10
DATA_FILE_SIZE: 41938260
BYTE_COUNT: 5460
