FILENAME: O4811253.SWS.943663.tif
QUADRANGLE_NAME: DUPUYER EAST
QUADRANT: SW
WEST_LONGITUDE: -112 30 0.00000
EAST_LONGITUDE: -112 26 15.00000
NORTH_LATITUDE: 48 11 15.00000
SOUTH_LATITUDE: 48 7 30.00000
PRODUCTION_DATE: 1998 12 08
RASTER_ORDER: LEFT_RIGHT/TOP_BOTTOM
BAND_ORGANIZATION: SINGLE FILE
BAND_CONTENT: BLACK&WHITE
BAND_CONTENT: UNDEFINED
BAND_CONTENT: UNDEFINED
BITS_PER_PIXEL: 8
SAMPLES_AND_LINES: 5490 7650
HORIZONTAL_DATUM: NAD83
HORIZONTAL_COORDINATE_SYSTEM: UTM
COORDINATE_ZONE: 12
HORIZONTAL_UNITS: METERS
HORIZONTAL_RESOLUTION: 1.00000
SECONDARY_HORIZONTAL_DATUM: NAD27
XY_ORIGIN: 387990.00000 5338530.00000
SECONDARY_XY_ORIGIN: 388051.79300 5338313.32600
NATION: US
STATE: MT
NW_QUAD_CORNER_XY: 388514.19600 5338228.22500
NE_QUAD_CORNER_XY: 393159.32800 5338139.45500
SE_QUAD_CORNERY_XY: 393029.46600 5331192.88700
SW_QUAD_CORNER_XY: 388378.68500 5331281.67900
SECONDARY_NW_QUAD_XY: 388510.67400 5338009.33800
SECONDARY_NE_QUAD_XY: 393155.95300 5337920.56500
SECONDARY_SE_QUAD_XY: 393026.09100 5330974.01000
SECONDARY_SW_QUAD_XY: 388375.16300 5331062.80500
RMSE_XY: 1.70000
IMAGE_SOURCE: BLACK AND WHITE FILM
SOURCE_IMAGE_ID: NAPP 8384 96
SOURCE_IMAGE_DATE: 1995 08 04
SOURCE_DEM_DATE: 1985 00 00
AGENCY: WESTERN MAPPING CENTER (WMC)
PRODUCER: ANALYTICAL SURVEYS INC.
PRODUCTION_SYSTEM: ORBIT OR_RECTIFY V.5.2
COMPRESSION: UNDEFINED
STANDARD_VERSION: 1996 12
METADATA_DATE: 1998 12 10
DATA_FILE_SIZE: 42003990
BYTE_COUNT: 5490
