FILENAME: O4811253.NWS.943661.tif
QUADRANGLE_NAME: DUPUYER EAST
QUADRANT: NW
WEST_LONGITUDE: -112 30 0.00000
EAST_LONGITUDE: -112 26 15.00000
NORTH_LATITUDE: 48 15 0.00000
SOUTH_LATITUDE: 48 11 15.00000
PRODUCTION_DATE: 1998 12 08
RASTER_ORDER: LEFT_RIGHT/TOP_BOTTOM
BAND_ORGANIZATION: SINGLE FILE
BAND_CONTENT: BLACK&WHITE
BAND_CONTENT: UNDEFINED
BAND_CONTENT: UNDEFINED
BITS_PER_PIXEL: 8
SAMPLES_AND_LINES: 5460 7680
HORIZONTAL_DATUM: NAD83
HORIZONTAL_COORDINATE_SYSTEM: UTM
COORDINATE_ZONE: 12
HORIZONTAL_UNITS: METERS
HORIZONTAL_RESOLUTION: 1.00000
SECONDARY_HORIZONTAL_DATUM: NAD27
XY_ORIGIN: 388140.00000 5345490.00000
SECONDARY_XY_ORIGIN: 388201.88300 5345272.74200
NATION: US
STATE: MT
NW_QUAD_CORNER_XY: 388649.84100 5345174.84200
NE_QUAD_CORNER_XY: 393289.31900 5345086.09300
SE_QUAD_CORNERY_XY: 393159.32800 5338139.45500
SW_QUAD_CORNER_XY: 388514.19600 5338228.22500
SECONDARY_NW_QUAD_XY: 388646.31800 5344955.94300
SECONDARY_NE_QUAD_XY: 393285.94400 5344867.19200
SECONDARY_SE_QUAD_XY: 393155.95300 5337920.56500
SECONDARY_SW_QUAD_XY: 388510.67400 5338009.33800
RMSE_XY: 0.80000
IMAGE_SOURCE: BLACK AND WHITE FILM
SOURCE_IMAGE_ID: NAPP 8384 94
SOURCE_IMAGE_DATE: 1995 08 04
SOURCE_DEM_DATE: 1985 00 00
AGENCY: WESTERN MAPPING CENTER (WMC)
PRODUCER: ANALYTICAL SURVEYS INC.
PRODUCTION_SYSTEM: ORBIT OR_RECTIFY V.5.2
COMPRESSION: UNDEFINED
STANDARD_VERSION: 1996 12
METADATA_DATE: 1998 12 10
DATA_FILE_SIZE: 41938260
BYTE_COUNT: 5460
