FILENAME: O4811253.NES.943660.tif
QUADRANGLE_NAME: DUPUYER EAST
QUADRANT: NE
WEST_LONGITUDE: -112 26 15.00000
EAST_LONGITUDE: -112 22 30.00000
NORTH_LATITUDE: 48 15 0.00000
SOUTH_LATITUDE: 48 11 15.00000
PRODUCTION_DATE: 1998 12 08
RASTER_ORDER: LEFT_RIGHT/TOP_BOTTOM
BAND_ORGANIZATION: SINGLE FILE
BAND_CONTENT: BLACK&WHITE
BAND_CONTENT: UNDEFINED
BAND_CONTENT: UNDEFINED
BITS_PER_PIXEL: 8
SAMPLES_AND_LINES: 5460 7650
HORIZONTAL_DATUM: NAD83
HORIZONTAL_COORDINATE_SYSTEM: UTM
COORDINATE_ZONE: 12
HORIZONTAL_UNITS: METERS
HORIZONTAL_RESOLUTION: 1.00000
SECONDARY_HORIZONTAL_DATUM: NAD27
XY_ORIGIN: 392790.00000 5345400.00000
SECONDARY_XY_ORIGIN: 392851.83700 5345182.76500
NATION: US
STATE: MT
NW_QUAD_CORNER_XY: 393289.31900 5345086.09300
NE_QUAD_CORNER_XY: 397928.81200 5345001.12300
SE_QUAD_CORNERY_XY: 397804.47500 5338054.46300
SW_QUAD_CORNER_XY: 393159.32800 5338139.45500
SECONDARY_NW_QUAD_XY: 393285.94400 5344867.19200
SECONDARY_NE_QUAD_XY: 397925.58300 5344782.21800
SECONDARY_SE_QUAD_XY: 397801.24600 5337835.57100
SECONDARY_SW_QUAD_XY: 393155.95300 5337920.56500
RMSE_XY: 0.76000
IMAGE_SOURCE: BLACK AND WHITE FILM
SOURCE_IMAGE_ID: NAPP 8384 59
SOURCE_IMAGE_DATE: 1995 08 04
SOURCE_DEM_DATE: 1985 00 00
AGENCY: WESTERN MAPPING CENTER (WMC)
PRODUCER: ANALYTICAL SURVEYS INC.
PRODUCTION_SYSTEM: ORBIT OR_RECTIFY V.5.2
COMPRESSION: UNDEFINED
STANDARD_VERSION: 1996 12
METADATA_DATE: 1998 12 10
DATA_FILE_SIZE: 41774460
BYTE_COUNT: 5460
