FILENAME: O4811254.SES.943726.tif
QUADRANGLE_NAME: LONE MAN COULEE WEST
QUADRANT: SE
WEST_LONGITUDE: -112 18 45.00000
EAST_LONGITUDE: -112 15 0.00000
NORTH_LATITUDE: 48 11 15.00000
SOUTH_LATITUDE: 48 7 30.00000
PRODUCTION_DATE: 1998 12 09
RASTER_ORDER: LEFT_RIGHT/TOP_BOTTOM
BAND_ORGANIZATION: SINGLE FILE
BAND_CONTENT: BLACK&WHITE
BAND_CONTENT: UNDEFINED
BAND_CONTENT: UNDEFINED
BITS_PER_PIXEL: 8
SAMPLES_AND_LINES: 5460 7650
HORIZONTAL_DATUM: NAD83
HORIZONTAL_COORDINATE_SYSTEM: UTM
COORDINATE_ZONE: 12
HORIZONTAL_UNITS: METERS
HORIZONTAL_RESOLUTION: 1.00000
SECONDARY_HORIZONTAL_DATUM: NAD27
XY_ORIGIN: 401940.00000 5338290.00000
SECONDARY_XY_ORIGIN: 402001.65000 5338073.36800
NATION: US
STATE: MT
NW_QUAD_CORNER_XY: 402449.63400 5337973.25000
NE_QUAD_CORNER_XY: 407094.80700 5337895.81600
SE_QUAD_CORNERY_XY: 406981.88800 5330949.19000
SW_QUAD_CORNER_XY: 402331.06800 5331026.64300
SECONDARY_NW_QUAD_XY: 402446.55300 5337754.35500
SECONDARY_NE_QUAD_XY: 407091.87200 5337676.91800
SECONDARY_SE_QUAD_XY: 406978.95300 5330730.30600
SECONDARY_SW_QUAD_XY: 402327.98600 5330807.76100
RMSE_XY: 1.08000
IMAGE_SOURCE: BLACK AND WHITE FILM
SOURCE_IMAGE_ID: NAPP 8381 31
SOURCE_IMAGE_DATE: 1995 07 28
SOURCE_DEM_DATE: 1985 00 00
AGENCY: WESTERN MAPPING CENTER (WMC)
PRODUCER: ANALYTICAL SURVEYS INC.
PRODUCTION_SYSTEM: ORBIT OR_RECTIFY V.5.2
COMPRESSION: UNDEFINED
STANDARD_VERSION: 1996 12
METADATA_DATE: 1998 12 14
DATA_FILE_SIZE: 41774460
BYTE_COUNT: 5460
