FILENAME: O4811255.SES.943730.tif
QUADRANGLE_NAME: LONE MAN COULEE EAST
QUADRANT: SE
WEST_LONGITUDE: -112 11 15.00000
EAST_LONGITUDE: -112 7 30.00000
NORTH_LATITUDE: 48 11 15.00000
SOUTH_LATITUDE: 48 7 30.00000
PRODUCTION_DATE: 1998 12 09
RASTER_ORDER: LEFT_RIGHT/TOP_BOTTOM
BAND_ORGANIZATION: SINGLE FILE
BAND_CONTENT: BLACK&WHITE
BAND_CONTENT: UNDEFINED
BAND_CONTENT: UNDEFINED
BITS_PER_PIXEL: 8
SAMPLES_AND_LINES: 5460 7650
HORIZONTAL_DATUM: NAD83
HORIZONTAL_COORDINATE_SYSTEM: UTM
COORDINATE_ZONE: 12
HORIZONTAL_UNITS: METERS
HORIZONTAL_RESOLUTION: 1.00000
SECONDARY_HORIZONTAL_DATUM: NAD27
XY_ORIGIN: 411240.00000 5338140.00000
SECONDARY_XY_ORIGIN: 411301.53300 5337923.33100
NATION: US
STATE: MT
NW_QUAD_CORNER_XY: 411739.99200 5337822.16000
NE_QUAD_CORNER_XY: 416385.18800 5337752.28100
SE_QUAD_CORNERY_XY: 416283.56300 5330805.62200
SW_QUAD_CORNER_XY: 411632.72000 5330875.51700
SECONDARY_NW_QUAD_XY: 411737.20300 5337603.26000
SECONDARY_NE_QUAD_XY: 416382.54600 5337533.37900
SECONDARY_SE_QUAD_XY: 416280.92200 5330586.73200
SECONDARY_SW_QUAD_XY: 411629.93200 5330656.62900
RMSE_XY: 1.17000
IMAGE_SOURCE: BLACK AND WHITE FILM
SOURCE_IMAGE_ID: NAPP 8380 63
SOURCE_IMAGE_DATE: 1995 07 01
SOURCE_DEM_DATE: 1992 00 00
AGENCY: WESTERN MAPPING CENTER (WMC)
PRODUCER: ANALYTICAL SURVEYS INC.
PRODUCTION_SYSTEM: ORBIT OR_RECTIFY V.5.2
COMPRESSION: UNDEFINED
STANDARD_VERSION: 1996 12
METADATA_DATE: 1998 12 14
DATA_FILE_SIZE: 41774460
BYTE_COUNT: 5460
