FILENAME: O4811257.SES.46644.tif
QUADRANGLE_NAME: GATEWAY PASS
QUADRANT: SE
WEST_LONGITUDE: -112 56 15.00000
EAST_LONGITUDE: -112 52 30.00000
NORTH_LATITUDE: 48 3 45.00000
SOUTH_LATITUDE: 48 0 0.00000
PRODUCTION_DATE: 1995 4 28
RASTER_ORDER: LEFT_RIGHT/TOP_BOTTOM
BAND_ORGANIZATION: SINGLE FILE
BAND_CONTENT: BLACK&WHITE
BAND_CONTENT: UNDEFINED
BAND_CONTENT: UNDEFINED
BITS_PER_PIXEL: 8
SAMPLES_AND_LINES: 5501 7668
HORIZONTAL_DATUM: NAD83
HORIZONTAL_COORDINATE_SYSTEM: UTM
COORDINATE_ZONE: 12
HORIZONTAL_UNITS: METERS
HORIZONTAL_RESOLUTION: 1.00000
SECONDARY_HORIZONTAL_DATUM: NAD27
XY_ORIGIN: 355106.00000 5325363.00000
SECONDARY_XY_ORIGIN: 355168.22000 5325147.60000
NATION: US
STATE: MT
NW_QUAD_CORNER_XY: 355648.77000 5325062.76000
NE_QUAD_CORNER_XY: 360305.08000 5324947.48000
SE_QUAD_CORNERY_XY: 360136.01000 5318001.21000
SW_QUAD_CORNER_XY: 355474.06000 5318116.52000
SECONDARY_NW_QUAD_XY: 355644.22000 5324843.92000
SECONDARY_NE_QUAD_XY: 360300.68000 5324728.64000
SECONDARY_SE_QUAD_XY: 360131.61000 5317782.39000
SECONDARY_SW_QUAD_XY: 355469.51000 5317897.70000
RMSE_XY: 2.90000
IMAGE_SOURCE: BLACK AND WHITE FILM
SOURCE_IMAGE_ID: NAPP 2571 34
SOURCE_IMAGE_DATE: 1990 8 6
SOURCE_IMAGE_ID: NAPP 2571 2571
SOURCE_IMAGE_DATE: 1990 8 6
SOURCE_IMAGE_ID: NAPP 2571 33
SOURCE_IMAGE_DATE: 1990 8 6
SOURCE_DEM_DATE: 1995 4 28
AGENCY: WESTERN MAPPING CENTER (WMC)
PRODUCER: Science Applications International
PRODUCTION_SYSTEM: GIS/MAGIC
COMPRESSION: UNDEFINED
STANDARD_VERSION: 1996 12
METADATA_DATE: 1997 7 4
DATA_FILE_SIZE: 42187169
BYTE_COUNT: 5501
