FILENAME: O4811257.NES.46642.tif
QUADRANGLE_NAME: GATEWAY PASS
QUADRANT: NE
WEST_LONGITUDE: -112 56 15.00000
EAST_LONGITUDE: -112 52 30.00000
NORTH_LATITUDE: 48 7 30.00000
SOUTH_LATITUDE: 48 3 45.00000
PRODUCTION_DATE: 1994 12 12
RASTER_ORDER: LEFT_RIGHT/TOP_BOTTOM
BAND_ORGANIZATION: SINGLE FILE
BAND_CONTENT: BLACK&WHITE
BAND_CONTENT: UNDEFINED
BAND_CONTENT: UNDEFINED
BITS_PER_PIXEL: 8
SAMPLES_AND_LINES: 5495 7668
HORIZONTAL_DATUM: NAD83
HORIZONTAL_COORDINATE_SYSTEM: UTM
COORDINATE_ZONE: 12
HORIZONTAL_UNITS: METERS
HORIZONTAL_RESOLUTION: 1.00000
SECONDARY_HORIZONTAL_DATUM: NAD27
XY_ORIGIN: 355281.00000 5332310.00000
SECONDARY_XY_ORIGIN: 355343.30900 5332094.20200
NATION: US
STATE: MT
NW_QUAD_CORNER_XY: 355823.65500 5332009.06600
NE_QUAD_CORNER_XY: 360474.32300 5331893.81100
SE_QUAD_CORNERY_XY: 360305.08300 5324947.47900
SW_QUAD_CORNER_XY: 355648.77100 5325062.76000
SECONDARY_NW_QUAD_XY: 355819.10600 5331790.21400
SECONDARY_NE_QUAD_XY: 360469.92100 5331674.95600
SECONDARY_SE_QUAD_XY: 360300.68100 5324728.63700
SECONDARY_SW_QUAD_XY: 355644.22200 5324843.92300
RMSE_XY: 6.40000
IMAGE_SOURCE: BLACK AND WHITE FILM
SOURCE_IMAGE_ID: NAPP 2571 032
SOURCE_IMAGE_DATE: 1990 8 6
SOURCE_DEM_DATE: 1994 12 12
AGENCY: WESTERN MAPPING CENTER (WMC)
PRODUCER: Science Applications International
PRODUCTION_SYSTEM: GIS/MAGIC
COMPRESSION: UNDEFINED
STANDARD_VERSION: 1996 12
METADATA_DATE: 1997 7 8
DATA_FILE_SIZE: 42141155
BYTE_COUNT: 5495
