FILENAME: O4811258.SWS.958259.tif
QUADRANGLE_NAME: WALLING REEF
QUADRANT: SW
WEST_LONGITUDE: -112 52 30.00000
EAST_LONGITUDE: -112 48 45.00000
NORTH_LATITUDE: 48 3 45.00000
SOUTH_LATITUDE: 48 0 0.00000
PRODUCTION_DATE: 1998 12 10
RASTER_ORDER: LEFT_RIGHT/TOP_BOTTOM
BAND_ORGANIZATION: SINGLE FILE
BAND_CONTENT: BLACK&WHITE
BAND_CONTENT: UNDEFINED
BAND_CONTENT: UNDEFINED
BITS_PER_PIXEL: 8
SAMPLES_AND_LINES: 5520 7710
HORIZONTAL_DATUM: NAD83
HORIZONTAL_COORDINATE_SYSTEM: UTM
COORDINATE_ZONE: 12
HORIZONTAL_UNITS: METERS
HORIZONTAL_RESOLUTION: 1.00000
SECONDARY_HORIZONTAL_DATUM: NAD27
XY_ORIGIN: 359760.00000 5325270.00000
SECONDARY_XY_ORIGIN: 359822.11500 5325054.54700
NATION: US
STATE: MT
NW_QUAD_CORNER_XY: 360305.08300 5324947.47900
NE_QUAD_CORNER_XY: 364961.41400 5324835.98000
SE_QUAD_CORNERY_XY: 364797.98000 5317889.69000
SW_QUAD_CORNER_XY: 360136.01100 5318001.21500
SECONDARY_NW_QUAD_XY: 360300.68100 5324728.63800
SECONDARY_NE_QUAD_XY: 364957.15800 5324617.13500
SECONDARY_SE_QUAD_XY: 364793.72500 5317670.85900
SECONDARY_SW_QUAD_XY: 360131.60900 5317782.38800
RMSE_XY: 2.38000
IMAGE_SOURCE: BLACK AND WHITE FILM
SOURCE_IMAGE_ID: NAPP 9491 44
SOURCE_IMAGE_DATE: 1995 09 01
SOURCE_IMAGE_ID: NAPP 9490 8
SOURCE_IMAGE_DATE: 1995 08 31
SOURCE_IMAGE_ID: NAPP 8386 170
SOURCE_IMAGE_DATE: 1995 08 05
SOURCE_IMAGE_ID: NAPP 9491 42
SOURCE_IMAGE_DATE: 1995 09 01
SOURCE_DEM_DATE: 1995 00 00
AGENCY: WESTERN MAPPING CENTER (WMC)
PRODUCER: ANALYTICAL SURVEYS INC.
PRODUCTION_SYSTEM: ORBIT OR_RECTIFY V.5.2
COMPRESSION: UNDEFINED
STANDARD_VERSION: 1996 12
METADATA_DATE: 1998 12 21
DATA_FILE_SIZE: 42564720
BYTE_COUNT: 5520
