FILENAME: O4811258.NES.958256.tif
QUADRANGLE_NAME: WALLING REEF
QUADRANT: NE
WEST_LONGITUDE: -112 48 45.00000
EAST_LONGITUDE: -112 45 0.00000
NORTH_LATITUDE: 48 7 30.00000
SOUTH_LATITUDE: 48 3 45.00000
PRODUCTION_DATE: 1998 12 10
RASTER_ORDER: LEFT_RIGHT/TOP_BOTTOM
BAND_ORGANIZATION: SINGLE FILE
BAND_CONTENT: BLACK&WHITE
BAND_CONTENT: UNDEFINED
BAND_CONTENT: UNDEFINED
BITS_PER_PIXEL: 8
SAMPLES_AND_LINES: 5490 7710
HORIZONTAL_DATUM: NAD83
HORIZONTAL_COORDINATE_SYSTEM: UTM
COORDINATE_ZONE: 12
HORIZONTAL_UNITS: METERS
HORIZONTAL_RESOLUTION: 1.00000
SECONDARY_HORIZONTAL_DATUM: NAD27
XY_ORIGIN: 364590.00000 5332110.00000
SECONDARY_XY_ORIGIN: 364652.09500 5331894.04400
NATION: US
STATE: MT
NW_QUAD_CORNER_XY: 365125.00900 5331782.33800
NE_QUAD_CORNER_XY: 369775.71200 5331674.64500
SE_QUAD_CORNERY_XY: 369617.76100 5324728.26200
SW_QUAD_CORNER_XY: 364961.41400 5324835.98000
SECONDARY_NW_QUAD_XY: 365120.75300 5331563.47900
SECONDARY_NE_QUAD_XY: 369771.60300 5331455.78300
SECONDARY_SE_QUAD_XY: 369613.65200 5324509.41300
SECONDARY_SW_QUAD_XY: 364957.15800 5324617.13500
RMSE_XY: 2.33000
IMAGE_SOURCE: BLACK AND WHITE FILM
SOURCE_IMAGE_ID: NAPP 8386 172
SOURCE_IMAGE_DATE: 1995 08 05
SOURCE_IMAGE_ID: NAPP 8386 171
SOURCE_IMAGE_DATE: 1995 08 05
SOURCE_IMAGE_ID: NAPP 8386 173
SOURCE_IMAGE_DATE: 1995 08 05
SOURCE_IMAGE_ID: NAPP 8386 170
SOURCE_IMAGE_DATE: 1995 08 05
SOURCE_DEM_DATE: 1995 00 00
AGENCY: WESTERN MAPPING CENTER (WMC)
PRODUCER: ANALYTICAL SURVEYS INC.
PRODUCTION_SYSTEM: ORBIT OR_RECTIFY V.5.2
COMPRESSION: UNDEFINED
STANDARD_VERSION: 1996 12
METADATA_DATE: 1998 12 21
DATA_FILE_SIZE: 42333390
BYTE_COUNT: 5490
