FILENAME: O4811259.SES.950127.tif
QUADRANGLE_NAME: VOLCANO REEF
QUADRANT: SE
WEST_LONGITUDE: -112 41 15.00000
EAST_LONGITUDE: -112 37 30.00000
NORTH_LATITUDE: 48 3 45.00000
SOUTH_LATITUDE: 48 0 0.00000
PRODUCTION_DATE: 1999 01 05
RASTER_ORDER: LEFT_RIGHT/TOP_BOTTOM
BAND_ORGANIZATION: SINGLE FILE
BAND_CONTENT: BLACK&WHITE
BAND_CONTENT: UNDEFINED
BAND_CONTENT: UNDEFINED
BITS_PER_PIXEL: 8
SAMPLES_AND_LINES: 5520 7680
HORIZONTAL_DATUM: NAD83
HORIZONTAL_COORDINATE_SYSTEM: UTM
COORDINATE_ZONE: 12
HORIZONTAL_UNITS: METERS
HORIZONTAL_RESOLUTION: 1.00000
SECONDARY_HORIZONTAL_DATUM: NAD27
XY_ORIGIN: 373740.00000 5324940.00000
SECONDARY_XY_ORIGIN: 373801.83400 5324724.44100
NATION: US
STATE: MT
NW_QUAD_CORNER_XY: 374274.12400 5324624.32500
NE_QUAD_CORNER_XY: 378930.50400 5324524.17000
SE_QUAD_CORNERY_XY: 378783.98600 5317577.80900
SW_QUAD_CORNER_XY: 374121.96800 5317677.98700
SECONDARY_NW_QUAD_XY: 374270.16300 5324405.47400
SECONDARY_NE_QUAD_XY: 378926.68900 5324305.31600
SECONDARY_SE_QUAD_XY: 378780.17100 5317358.96800
SECONDARY_SW_QUAD_XY: 374118.00700 5317459.15000
RMSE_XY: 2.78000
IMAGE_SOURCE: BLACK AND WHITE FILM
SOURCE_IMAGE_ID: NAPP 8385 60
SOURCE_IMAGE_DATE: 1995 08 05
SOURCE_DEM_DATE: 1998 01 01
AGENCY: WESTERN MAPPING CENTER (WMC)
PRODUCER: ANALYTICAL SURVEYS INC.
PRODUCTION_SYSTEM: ORBIT OR_RECTIFY V.5.2
COMPRESSION: UNDEFINED
STANDARD_VERSION: 1996 12
METADATA_DATE: 1999 01 06
DATA_FILE_SIZE: 42399120
BYTE_COUNT: 5520
