FILENAME: O4811260.SES.950151.tif
QUADRANGLE_NAME: BLACKLEAF
QUADRANT: SE
WEST_LONGITUDE: -112 33 45.00000
EAST_LONGITUDE: -112 30 0.00000
NORTH_LATITUDE: 48 3 45.00000
SOUTH_LATITUDE: 48 0 0.00000
PRODUCTION_DATE: 1998 12 15
RASTER_ORDER: LEFT_RIGHT/TOP_BOTTOM
BAND_ORGANIZATION: SINGLE FILE
BAND_CONTENT: BLACK&WHITE
BAND_CONTENT: UNDEFINED
BAND_CONTENT: UNDEFINED
BITS_PER_PIXEL: 8
SAMPLES_AND_LINES: 5490 7650
HORIZONTAL_DATUM: NAD83
HORIZONTAL_COORDINATE_SYSTEM: UTM
COORDINATE_ZONE: 12
HORIZONTAL_UNITS: METERS
HORIZONTAL_RESOLUTION: 1.00000
SECONDARY_HORIZONTAL_DATUM: NAD27
XY_ORIGIN: 383070.00000 5324730.00000
SECONDARY_XY_ORIGIN: 383131.68600 5324514.46800
NATION: US
STATE: MT
NW_QUAD_CORNER_XY: 383586.89900 5324427.79600
NE_QUAD_CORNER_XY: 388243.30800 5324335.20300
SE_QUAD_CORNERY_XY: 388108.06500 5317388.79900
SW_QUAD_CORNER_XY: 383446.01800 5317481.41300
SECONDARY_NW_QUAD_XY: 383583.23000 5324208.93900
SECONDARY_NE_QUAD_XY: 388239.78700 5324116.34300
SECONDARY_SE_QUAD_XY: 388104.54400 5317169.95200
SECONDARY_SW_QUAD_XY: 383442.35000 5317262.56900
RMSE_XY: 2.99000
IMAGE_SOURCE: BLACK AND WHITE FILM
SOURCE_IMAGE_ID: NAPP 8384 171
SOURCE_IMAGE_DATE: 1995 08 05
SOURCE_IMAGE_ID: NAPP 8384 169
SOURCE_IMAGE_DATE: 1995 08 05
SOURCE_DEM_DATE: 1998 01 01
AGENCY: WESTERN MAPPING CENTER (WMC)
PRODUCER: ANALYTICAL SURVEYS INC.
PRODUCTION_SYSTEM: ORBIT OR_RECTIFY V.5.2
COMPRESSION: UNDEFINED
STANDARD_VERSION: 1996 12
METADATA_DATE: 1998 12 17
DATA_FILE_SIZE: 42003990
BYTE_COUNT: 5490
