FILENAME: O4811260.NWS.950147.tif
QUADRANGLE_NAME: BLACKLEAF
QUADRANT: NW
WEST_LONGITUDE: -112 37 30.00000
EAST_LONGITUDE: -112 33 45.00000
NORTH_LATITUDE: 48 7 30.00000
SOUTH_LATITUDE: 48 3 45.00000
PRODUCTION_DATE: 1998 12 15
RASTER_ORDER: LEFT_RIGHT/TOP_BOTTOM
BAND_ORGANIZATION: SINGLE FILE
BAND_CONTENT: BLACK&WHITE
BAND_CONTENT: UNDEFINED
BAND_CONTENT: UNDEFINED
BITS_PER_PIXEL: 8
SAMPLES_AND_LINES: 5490 7680
HORIZONTAL_DATUM: NAD83
HORIZONTAL_COORDINATE_SYSTEM: UTM
COORDINATE_ZONE: 12
HORIZONTAL_UNITS: METERS
HORIZONTAL_RESOLUTION: 1.00000
SECONDARY_HORIZONTAL_DATUM: NAD27
XY_ORIGIN: 378540.00000 5331780.00000
SECONDARY_XY_ORIGIN: 378601.84600 5331563.92900
NATION: US
STATE: MT
NW_QUAD_CORNER_XY: 379077.16700 5331470.60200
NE_QUAD_CORNER_XY: 383727.91900 5331374.25000
SE_QUAD_CORNERY_XY: 383586.89900 5324427.79600
SW_QUAD_CORNER_XY: 378930.50400 5324524.17000
SECONDARY_NW_QUAD_XY: 379073.35200 5331251.73300
SECONDARY_NE_QUAD_XY: 383724.25000 5331155.37900
SECONDARY_SE_QUAD_XY: 383583.23000 5324208.93900
SECONDARY_SW_QUAD_XY: 378926.68900 5324305.31600
RMSE_XY: 2.13000
IMAGE_SOURCE: BLACK AND WHITE FILM
SOURCE_IMAGE_ID: NAPP 8384 251
SOURCE_IMAGE_DATE: 1995 08 05
SOURCE_DEM_DATE: 1998 01 01
AGENCY: WESTERN MAPPING CENTER (WMC)
PRODUCER: ANALYTICAL SURVEYS INC.
PRODUCTION_SYSTEM: ORBIT OR_RECTIFY V.5.2
COMPRESSION: UNDEFINED
STANDARD_VERSION: 1996 12
METADATA_DATE: 1998 12 17
DATA_FILE_SIZE: 42168690
BYTE_COUNT: 5490
