FILENAME: O4811261.SES.950250.tif
QUADRANGLE_NAME: SOAP CREEK
QUADRANT: SE
WEST_LONGITUDE: -112 26 15.00000
EAST_LONGITUDE: -112 22 30.00000
NORTH_LATITUDE: 48 3 45.00000
SOUTH_LATITUDE: 48 0 0.00000
PRODUCTION_DATE: 1998 12 16
RASTER_ORDER: LEFT_RIGHT/TOP_BOTTOM
BAND_ORGANIZATION: SINGLE FILE
BAND_CONTENT: BLACK&WHITE
BAND_CONTENT: UNDEFINED
BAND_CONTENT: UNDEFINED
BITS_PER_PIXEL: 8
SAMPLES_AND_LINES: 5460 7650
HORIZONTAL_DATUM: NAD83
HORIZONTAL_COORDINATE_SYSTEM: UTM
COORDINATE_ZONE: 12
HORIZONTAL_UNITS: METERS
HORIZONTAL_RESOLUTION: 1.00000
SECONDARY_HORIZONTAL_DATUM: NAD27
XY_ORIGIN: 392400.00000 5324550.00000
SECONDARY_XY_ORIGIN: 392461.56000 5324334.49200
NATION: US
STATE: MT
NW_QUAD_CORNER_XY: 392899.73200 5324246.39100
NE_QUAD_CORNER_XY: 397556.16800 5324161.36000
SE_QUAD_CORNERY_XY: 397432.19900 5317214.91500
SW_QUAD_CORNER_XY: 392770.12600 5317299.96600
SECONDARY_NW_QUAD_XY: 392896.35700 5324027.52800
SECONDARY_NE_QUAD_XY: 397552.94000 5323942.49300
SECONDARY_SE_QUAD_XY: 397428.97200 5316996.06300
SECONDARY_SW_QUAD_XY: 392766.75100 5317081.11700
RMSE_XY: 0.90000
IMAGE_SOURCE: BLACK AND WHITE FILM
SOURCE_IMAGE_ID: NAPP 8384 53
SOURCE_IMAGE_DATE: 1995 08 04
SOURCE_DEM_DATE: 1980 00 00
AGENCY: WESTERN MAPPING CENTER (WMC)
PRODUCER: ANALYTICAL SURVEYS INC.
PRODUCTION_SYSTEM: ORBIT OR_RECTIFY V.5.2
COMPRESSION: UNDEFINED
STANDARD_VERSION: 1996 12
METADATA_DATE: 1998 12 17
DATA_FILE_SIZE: 41774460
BYTE_COUNT: 5460
