FILENAME: O4811263.SES.950374.tif
QUADRANGLE_NAME: AGAWAM NORTH
QUADRANT: SE
WEST_LONGITUDE: -112 11 15.00000
EAST_LONGITUDE: -112 7 30.00000
NORTH_LATITUDE: 48 3 45.00000
SOUTH_LATITUDE: 48 0 0.00000
PRODUCTION_DATE: 1998 12 16
RASTER_ORDER: LEFT_RIGHT/TOP_BOTTOM
BAND_ORGANIZATION: SINGLE FILE
BAND_CONTENT: BLACK&WHITE
BAND_CONTENT: UNDEFINED
BAND_CONTENT: UNDEFINED
BITS_PER_PIXEL: 8
SAMPLES_AND_LINES: 5460 7650
HORIZONTAL_DATUM: NAD83
HORIZONTAL_COORDINATE_SYSTEM: UTM
COORDINATE_ZONE: 12
HORIZONTAL_UNITS: METERS
HORIZONTAL_RESOLUTION: 1.00000
SECONDARY_HORIZONTAL_DATUM: NAD27
XY_ORIGIN: 411030.00000 5324250.00000
SECONDARY_XY_ORIGIN: 411091.34700 5324034.41400
NATION: US
STATE: MT
NW_QUAD_CORNER_XY: 411525.55400 5323928.94600
NE_QUAD_CORNER_XY: 416182.03900 5323859.03500
SE_QUAD_CORNERY_XY: 416080.61500 5316912.52100
SW_QUAD_CORNER_XY: 411418.49400 5316982.44900
SECONDARY_NW_QUAD_XY: 411522.76600 5323710.07300
SECONDARY_NE_QUAD_XY: 416179.39800 5323640.15900
SECONDARY_SE_QUAD_XY: 416077.97400 5316693.66000
SECONDARY_SW_QUAD_XY: 411415.70700 5316763.58900
RMSE_XY: 0.56000
IMAGE_SOURCE: BLACK AND WHITE FILM
SOURCE_IMAGE_ID: NAPP 8380 59
SOURCE_IMAGE_DATE: 1995 07 01
SOURCE_DEM_DATE: 1980 00 00
AGENCY: WESTERN MAPPING CENTER (WMC)
PRODUCER: ANALYTICAL SURVEYS INC.
PRODUCTION_SYSTEM: ORBIT OR_RECTIFY V.5.2
COMPRESSION: UNDEFINED
STANDARD_VERSION: 1996 12
METADATA_DATE: 1998 12 17
DATA_FILE_SIZE: 41774460
BYTE_COUNT: 5460
