FILENAME: O4811264.SES.950394.tif
QUADRANGLE_NAME: GALLUP CITY
QUADRANT: SE
WEST_LONGITUDE: -112 3 45.00000
EAST_LONGITUDE: -112 0 0.00000
NORTH_LATITUDE: 48 3 45.00000
SOUTH_LATITUDE: 48 0 0.00000
PRODUCTION_DATE: 1998 12 17
RASTER_ORDER: LEFT_RIGHT/TOP_BOTTOM
BAND_ORGANIZATION: SINGLE FILE
BAND_CONTENT: BLACK&WHITE
BAND_CONTENT: UNDEFINED
BAND_CONTENT: UNDEFINED
BITS_PER_PIXEL: 8
SAMPLES_AND_LINES: 5460 7620
HORIZONTAL_DATUM: NAD83
HORIZONTAL_COORDINATE_SYSTEM: UTM
COORDINATE_ZONE: 12
HORIZONTAL_UNITS: METERS
HORIZONTAL_RESOLUTION: 1.00000
SECONDARY_HORIZONTAL_DATUM: NAD27
XY_ORIGIN: 420360.00000 5324100.00000
SECONDARY_XY_ORIGIN: 420421.21600 5323884.25000
NATION: US
STATE: MT
NW_QUAD_CORNER_XY: 420838.53400 5323792.90400
NE_QUAD_CORNER_XY: 425495.04000 5323730.55200
SE_QUAD_CORNERY_XY: 425404.88800 5316784.00900
SW_QUAD_CORNER_XY: 420742.74700 5316846.37500
SECONDARY_NW_QUAD_XY: 420836.04000 5323574.02600
SECONDARY_NE_QUAD_XY: 425492.69200 5323511.67200
SECONDARY_SE_QUAD_XY: 425402.54000 5316565.14400
SECONDARY_SW_QUAD_XY: 420740.25200 5316627.51200
RMSE_XY: 0.83000
IMAGE_SOURCE: BLACK AND WHITE FILM
SOURCE_IMAGE_ID: NAPP 9487 84
SOURCE_IMAGE_DATE: 1995 08 27
SOURCE_DEM_DATE: 1985 00 00
AGENCY: WESTERN MAPPING CENTER (WMC)
PRODUCER: ANALYTICAL SURVEYS INC.
PRODUCTION_SYSTEM: ORBIT OR_RECTIFY V.5.2
COMPRESSION: UNDEFINED
STANDARD_VERSION: 1996 12
METADATA_DATE: 1998 12 20
DATA_FILE_SIZE: 41610660
BYTE_COUNT: 5460
