FILENAME: O4811264.NES.950392.tif
QUADRANGLE_NAME: GALLUP CITY
QUADRANT: NE
WEST_LONGITUDE: -112 3 45.00000
EAST_LONGITUDE: -112 0 0.00000
NORTH_LATITUDE: 48 7 30.00000
SOUTH_LATITUDE: 48 3 45.00000
PRODUCTION_DATE: 1998 12 17
RASTER_ORDER: LEFT_RIGHT/TOP_BOTTOM
BAND_ORGANIZATION: SINGLE FILE
BAND_CONTENT: BLACK&WHITE
BAND_CONTENT: UNDEFINED
BAND_CONTENT: UNDEFINED
BITS_PER_PIXEL: 8
SAMPLES_AND_LINES: 5460 7650
HORIZONTAL_DATUM: NAD83
HORIZONTAL_COORDINATE_SYSTEM: UTM
COORDINATE_ZONE: 12
HORIZONTAL_UNITS: METERS
HORIZONTAL_RESOLUTION: 1.00000
SECONDARY_HORIZONTAL_DATUM: NAD27
XY_ORIGIN: 420450.00000 5331060.00000
SECONDARY_XY_ORIGIN: 420511.30500 5330843.73000
NATION: US
STATE: MT
NW_QUAD_CORNER_XY: 420934.41700 5330739.50600
NE_QUAD_CORNER_XY: 425585.28200 5330677.16900
SE_QUAD_CORNERY_XY: 425495.04000 5323730.55200
SW_QUAD_CORNER_XY: 420838.53400 5323792.90400
SECONDARY_NW_QUAD_XY: 420931.92300 5330520.61400
SECONDARY_NE_QUAD_XY: 425582.93400 5330458.27500
SECONDARY_SE_QUAD_XY: 425492.69200 5323511.67200
SECONDARY_SW_QUAD_XY: 420836.04000 5323574.02600
RMSE_XY: 1.13000
IMAGE_SOURCE: BLACK AND WHITE FILM
SOURCE_IMAGE_ID: NAPP 9487 82
SOURCE_IMAGE_DATE: 1995 08 27
SOURCE_DEM_DATE: 1985 00 00
AGENCY: WESTERN MAPPING CENTER (WMC)
PRODUCER: ANALYTICAL SURVEYS INC.
PRODUCTION_SYSTEM: ORBIT OR_RECTIFY V.5.2
COMPRESSION: UNDEFINED
STANDARD_VERSION: 1996 12
METADATA_DATE: 1998 12 20
DATA_FILE_SIZE: 41774460
BYTE_COUNT: 5460
