FILENAME: O4811102.SES.958400.tif
QUADRANGLE_NAME: WILLSHAW FLATS
QUADRANT: SE
WEST_LONGITUDE: -111 48 45.00000
EAST_LONGITUDE: -111 45 0.00000
NORTH_LATITUDE: 48 56 15.00000
SOUTH_LATITUDE: 48 52 30.00000
PRODUCTION_DATE: 1999 1 14
RASTER_ORDER: LEFT_RIGHT/TOP_BOTTOM
BAND_ORGANIZATION: SINGLE FILE
BAND_CONTENT: BLACK&WHITE
BAND_CONTENT: UNDEFINED
BAND_CONTENT: UNDEFINED
BITS_PER_PIXEL: 8
SAMPLES_AND_LINES: 5316 7599
HORIZONTAL_DATUM: NAD83
HORIZONTAL_COORDINATE_SYSTEM: UTM
COORDINATE_ZONE: 12
HORIZONTAL_UNITS: METERS
HORIZONTAL_RESOLUTION: 1.00000
SECONDARY_HORIZONTAL_DATUM: NAD27
XY_ORIGIN: 440059.00000 5421128.00000
SECONDARY_XY_ORIGIN: 440119.95000 5420907.93200
NATION: US
STATE: MT
NW_QUAD_CORNER_XY: 440497.64700 5420826.10700
NE_QUAD_CORNER_XY: 445074.71400 5420779.04800
SE_QUAD_CORNERY_XY: 445006.17100 5413831.41300
SW_QUAD_CORNER_XY: 440423.39200 5413878.48600
SECONDARY_NW_QUAD_XY: 440495.73800 5420607.10900
SECONDARY_NE_QUAD_XY: 445072.95200 5420560.04800
SECONDARY_SE_QUAD_XY: 445004.40900 5413612.41600
SECONDARY_SW_QUAD_XY: 440421.48300 5413659.49100
RMSE_XY: 1.50000
IMAGE_SOURCE: BLACK AND WHITE FILM
SOURCE_IMAGE_ID: NAPP 9178 005
SOURCE_IMAGE_DATE: 1997 9 4
SOURCE_DEM_DATE: 1983 0 0
AGENCY: WESTERN MAPPING CENTER (WMC)
PRODUCER: ROCKY MOUNTAIN MAPPING CENTER (RMMC)
PRODUCTION_SYSTEM: DV2.6.3 10/9OV2.4 5/95
COMPRESSION: UNDEFINED
STANDARD_VERSION: 1996 12
METADATA_DATE: 1999 1 14
DATA_FILE_SIZE: 40401600
BYTE_COUNT: 5316
