FILENAME: O4811102.NES.958397.tif
QUADRANGLE_NAME: WILLSHAW FLATS
QUADRANT: NE
WEST_LONGITUDE: -111 48 45.00000
EAST_LONGITUDE: -111 45 0.00000
NORTH_LATITUDE: 49 0 0.00000
SOUTH_LATITUDE: 48 56 15.00000
PRODUCTION_DATE: 1999 1 14
RASTER_ORDER: LEFT_RIGHT/TOP_BOTTOM
BAND_ORGANIZATION: SINGLE FILE
BAND_CONTENT: BLACK&WHITE
BAND_CONTENT: UNDEFINED
BAND_CONTENT: UNDEFINED
BITS_PER_PIXEL: 8
SAMPLES_AND_LINES: 5308 7599
HORIZONTAL_DATUM: NAD83
HORIZONTAL_COORDINATE_SYSTEM: UTM
COORDINATE_ZONE: 12
HORIZONTAL_UNITS: METERS
HORIZONTAL_RESOLUTION: 1.00000
SECONDARY_HORIZONTAL_DATUM: NAD27
XY_ORIGIN: 440134.00000 5428076.00000
SECONDARY_XY_ORIGIN: 440194.68600 5427855.70900
NATION: US
NATION: CA
STATE: MT
NW_QUAD_CORNER_XY: 440571.97400 5427773.80200
NE_QUAD_CORNER_XY: 445143.32300 5427726.75700
SE_QUAD_CORNERY_XY: 445074.71400 5420779.04800
SW_QUAD_CORNER_XY: 440497.64700 5420826.10700
SECONDARY_NW_QUAD_XY: 440570.06500 5427554.80200
SECONDARY_NE_QUAD_XY: 445141.56100 5427507.75500
SECONDARY_SE_QUAD_XY: 445072.95200 5420560.04800
SECONDARY_SW_QUAD_XY: 440495.73800 5420607.10900
RMSE_XY: 2.00000
IMAGE_SOURCE: BLACK AND WHITE FILM
SOURCE_IMAGE_ID: NAPP 9178 003
SOURCE_IMAGE_DATE: 1997 9 4
SOURCE_DEM_DATE: 1983 0 0
AGENCY: WESTERN MAPPING CENTER (WMC)
PRODUCER: ROCKY MOUNTAIN MAPPING CENTER (RMMC)
PRODUCTION_SYSTEM: DV2.6.3 10/9OV2.4 5/95
COMPRESSION: UNDEFINED
STANDARD_VERSION: 1996 12
METADATA_DATE: 1999 1 14
DATA_FILE_SIZE: 40340800
BYTE_COUNT: 5308
