FILENAME: O4811103.SWS.958405.tif
QUADRANGLE_NAME: BEAUPRE COULEE
QUADRANT: SW
WEST_LONGITUDE: -111 45 0.00000
EAST_LONGITUDE: -111 41 15.00000
NORTH_LATITUDE: 48 56 15.00000
SOUTH_LATITUDE: 48 52 30.00000
PRODUCTION_DATE: 1999 1 15
RASTER_ORDER: LEFT_RIGHT/TOP_BOTTOM
BAND_ORGANIZATION: SINGLE FILE
BAND_CONTENT: BLACK&WHITE
BAND_CONTENT: UNDEFINED
BAND_CONTENT: UNDEFINED
BITS_PER_PIXEL: 8
SAMPLES_AND_LINES: 5312 7595
HORIZONTAL_DATUM: NAD83
HORIZONTAL_COORDINATE_SYSTEM: UTM
COORDINATE_ZONE: 12
HORIZONTAL_UNITS: METERS
HORIZONTAL_RESOLUTION: 1.00000
SECONDARY_HORIZONTAL_DATUM: NAD27
XY_ORIGIN: 444642.00000 5421081.00000
SECONDARY_XY_ORIGIN: 444702.61500 5420860.66400
NATION: US
STATE: MT
NW_QUAD_CORNER_XY: 445074.71400 5420779.04800
NE_QUAD_CORNER_XY: 449651.79000 5420735.75300
SE_QUAD_CORNERY_XY: 449588.96000 5413788.10500
SW_QUAD_CORNER_XY: 445006.17100 5413831.41300
SECONDARY_NW_QUAD_XY: 445072.95200 5420560.04800
SECONDARY_NE_QUAD_XY: 449650.17500 5420516.75200
SECONDARY_SE_QUAD_XY: 449587.34400 5413569.10700
SECONDARY_SW_QUAD_XY: 445004.40900 5413612.41600
RMSE_XY: 2.40000
IMAGE_SOURCE: BLACK AND WHITE FILM
SOURCE_IMAGE_ID: NAPP 9178 141
SOURCE_IMAGE_DATE: 1997 9 4
SOURCE_DEM_DATE: 1983 0 0
AGENCY: WESTERN MAPPING CENTER (WMC)
PRODUCER: ROCKY MOUNTAIN MAPPING CENTER (RMMC)
PRODUCTION_SYSTEM: DV2.6.3 10/9OV2.4 5/95
COMPRESSION: UNDEFINED
STANDARD_VERSION: 1996 12
METADATA_DATE: 1999 1 15
DATA_FILE_SIZE: 40349952
BYTE_COUNT: 5312
