FILENAME: O4811103.NES.958402.tif
QUADRANGLE_NAME: BEAUPRE COULEE
QUADRANT: NE
WEST_LONGITUDE: -111 41 15.00000
EAST_LONGITUDE: -111 37 30.00000
NORTH_LATITUDE: 49 0 0.00000
SOUTH_LATITUDE: 48 56 15.00000
PRODUCTION_DATE: 1999 1 15
RASTER_ORDER: LEFT_RIGHT/TOP_BOTTOM
BAND_ORGANIZATION: SINGLE FILE
BAND_CONTENT: BLACK&WHITE
BAND_CONTENT: UNDEFINED
BAND_CONTENT: UNDEFINED
BITS_PER_PIXEL: 8
SAMPLES_AND_LINES: 5296 7592
HORIZONTAL_DATUM: NAD83
HORIZONTAL_COORDINATE_SYSTEM: UTM
COORDINATE_ZONE: 12
HORIZONTAL_UNITS: METERS
HORIZONTAL_RESOLUTION: 1.00000
SECONDARY_HORIZONTAL_DATUM: NAD27
XY_ORIGIN: 449289.00000 5427986.00000
SECONDARY_XY_ORIGIN: 449348.00000 5427766.00000
NATION: US
NATION: CA
STATE: MT
NW_QUAD_CORNER_XY: 449714.68100 5427683.47500
NE_QUAD_CORNER_XY: 454286.04700 5427643.95700
SE_QUAD_CORNERY_XY: 454228.87400 5420696.22300
SW_QUAD_CORNER_XY: 449651.79000 5420735.75300
SECONDARY_NW_QUAD_XY: 449713.06600 5427464.47200
SECONDARY_NE_QUAD_XY: 454284.57900 5427424.95300
SECONDARY_SE_QUAD_XY: 454227.40600 5420477.22100
SECONDARY_SW_QUAD_XY: 449650.17500 5420516.75200
RMSE_XY: 3.30000
IMAGE_SOURCE: BLACK AND WHITE FILM
SOURCE_IMAGE_ID: NAPP 9178 113
SOURCE_IMAGE_DATE: 1997 8 30
SOURCE_DEM_DATE: 1983 0 0
AGENCY: WESTERN MAPPING CENTER (WMC)
PRODUCER: ROCKY MOUNTAIN MAPPING CENTER (RMMC)
PRODUCTION_SYSTEM: DV2.6.3 10/9OV2.4 5/95
COMPRESSION: UNDEFINED
STANDARD_VERSION: 1996 12
METADATA_DATE: 1999 1 15
DATA_FILE_SIZE: 40212528
BYTE_COUNT: 5296
