FILENAME: O4811106.SWS.958431.tif
QUADRANGLE_NAME: WHITLASH
QUADRANT: SW
WEST_LONGITUDE: -111 22 30.00000
EAST_LONGITUDE: -111 18 45.00000
NORTH_LATITUDE: 48 56 15.00000
SOUTH_LATITUDE: 48 52 30.00000
PRODUCTION_DATE: 1999 1 22
RASTER_ORDER: LEFT_RIGHT/TOP_BOTTOM
BAND_ORGANIZATION: SINGLE FILE
BAND_CONTENT: BLACK&WHITE
BAND_CONTENT: UNDEFINED
BAND_CONTENT: UNDEFINED
BITS_PER_PIXEL: 8
SAMPLES_AND_LINES: 5272 7573
HORIZONTAL_DATUM: NAD83
HORIZONTAL_COORDINATE_SYSTEM: UTM
COORDINATE_ZONE: 12
HORIZONTAL_UNITS: METERS
HORIZONTAL_RESOLUTION: 1.00000
SECONDARY_HORIZONTAL_DATUM: NAD27
XY_ORIGIN: 472142.00000 5420878.00000
SECONDARY_XY_ORIGIN: 472200.58800 5420657.70800
NATION: US
STATE: MT
NW_QUAD_CORNER_XY: 472537.27700 5420575.75400
NE_QUAD_CORNER_XY: 477114.39100 5420555.04800
SE_QUAD_CORNERY_XY: 477085.83200 5413607.34800
SW_QUAD_CORNER_XY: 472503.00700 5413628.05900
SECONDARY_NW_QUAD_XY: 472536.39600 5420356.74800
SECONDARY_NE_QUAD_XY: 477113.65700 5420336.04100
SECONDARY_SE_QUAD_XY: 477085.09800 5413388.34300
SECONDARY_SW_QUAD_XY: 472502.12600 5413409.05500
RMSE_XY: 2.70000
IMAGE_SOURCE: BLACK AND WHITE FILM
SOURCE_IMAGE_ID: NAPP 9175 094
SOURCE_IMAGE_DATE: 1997 8 30
SOURCE_DEM_DATE: 1961 0 0
AGENCY: WESTERN MAPPING CENTER (WMC)
PRODUCER: ROCKY MOUNTAIN MAPPING CENTER (RMMC)
PRODUCTION_SYSTEM: DV2.6.3 10/9OV2.4 5/95
COMPRESSION: UNDEFINED
STANDARD_VERSION: 1996 12
METADATA_DATE: 1999 1 22
DATA_FILE_SIZE: 39930128
BYTE_COUNT: 5272
